BEGIN:VCALENDAR
VERSION:2.0
PRODID:-//Central Livestock - ECPv4.6.9//NONSGML v1.0//EN
CALSCALE:GREGORIAN
METHOD:PUBLISH
X-WR-CALNAME:Central Livestock
X-ORIGINAL-URL:http://centrallivestock.co.nz
X-WR-CALDESC:Events for Central Livestock
BEGIN:VEVENT
DTSTART;TZID=UTC+12:20180125T120000
DTEND;TZID=UTC+12:20180125T120000
DTSTAMP:20180121T175543
CREATED:20170815T222916Z
LAST-MODIFIED:20180120T181137Z
UID:4404-1516881600-1516881600@centrallivestock.co.nz
SUMMARY:Taupo Sale - 785 Cattle
DESCRIPTION:Entries to Date \n785 Cattle\n26 2 1/2yr Beef X Steers – 550kg Approx\n30 2 1/2yr Friesian Steers – 500kg +\n10 2 1/2yr Beef Heifers\n75 15mth Angus Frsn X Steers – 300kg +\n100 15mth Hereford Friesian & Beef X Steers – 360/370kg\n40 15mth Friesian Bulls 450Kg Ave\n55 15mth Angus Frsn X Heifers – 300kg +\n30 15mth Beef X Heifers\n200 Weaner Friesian Bulls\n220 Weaner H/Frsn & Beef X Heifers \n80 Sheep\n30 Store Lambs – 50 Ewes \nFor a detailed list Click Here \nFor enquiries and further entries please call 0800833834 \nTaupo Saleyards is an accredited NAIT entity so we will scan and record the movement of your cattle. \nAll cattle must be NAIT tagged and all vendors must have their NAIT number. \nUntagged cattle will either be sent home or tagged with a saleyards approved NAIT tag at a maximum cost of $25 per head tagged. \nPlease note that all intending purchasers must be NAIT registered prior to the sale and must have a NAIT number when registering at the sale. \nWe are accredited providers and can assist by registering on your behalf for a small fee. \nASD forms HERE   Terms & Conditions HERE \n
URL:http://centrallivestock.co.nz/event/taupo-sale-7/
LOCATION:16 Oruanui Road\, Wairakei\, Waikato\, 3337\, New Zealand
END:VEVENT
END:VCALENDAR