BEGIN:VCALENDAR
VERSION:2.0
PRODID:-//Central Livestock - ECPv4.6.9//NONSGML v1.0//EN
CALSCALE:GREGORIAN
METHOD:PUBLISH
X-WR-CALNAME:Central Livestock
X-ORIGINAL-URL:http://centrallivestock.co.nz
X-WR-CALDESC:Events for Central Livestock
BEGIN:VEVENT
DTSTART;TZID=UTC+12:20180222T120000
DTEND;TZID=UTC+12:20180222T120000
DTSTAMP:20180121T180218
CREATED:20180111T180748Z
LAST-MODIFIED:20180111T205329Z
UID:5134-1519300800-1519300800@centrallivestock.co.nz
SUMMARY:Taupo Sale
DESCRIPTION:
URL:http://centrallivestock.co.nz/event/taupo-sale-8/
LOCATION:16 Oruanui Road\, Wairakei\, Waikato\, 3337\, New Zealand
END:VEVENT
END:VCALENDAR