BEGIN:VCALENDAR
VERSION:2.0
PRODID:-//Central Livestock - ECPv4.6.9//NONSGML v1.0//EN
CALSCALE:GREGORIAN
METHOD:PUBLISH
X-WR-CALNAME:Central Livestock
X-ORIGINAL-URL:http://centrallivestock.co.nz
X-WR-CALDESC:Events for Central Livestock
BEGIN:VEVENT
DTSTART;TZID=UTC+12:20180322T120000
DTEND;TZID=UTC+12:20180322T120000
DTSTAMP:20180121T180230
CREATED:20180111T205254Z
LAST-MODIFIED:20180111T205254Z
UID:5157-1521720000-1521720000@centrallivestock.co.nz
SUMMARY:Taupo Sale
DESCRIPTION:
URL:http://centrallivestock.co.nz/event/taupo-sale-9/
END:VEVENT
END:VCALENDAR