BEGIN:VCALENDAR
VERSION:2.0
PRODID:-//Central Livestock - ECPv4.6.9//NONSGML v1.0//EN
CALSCALE:GREGORIAN
METHOD:PUBLISH
X-WR-CALNAME:Central Livestock
X-ORIGINAL-URL:http://centrallivestock.co.nz
X-WR-CALDESC:Events for Central Livestock
BEGIN:VEVENT
DTSTART;TZID=UTC+12:20171214T120000
DTEND;TZID=UTC+12:20171214T120000
DTSTAMP:20180121T181952
CREATED:20170812T231754Z
LAST-MODIFIED:20171212T035139Z
UID:4399-1513252800-1513252800@centrallivestock.co.nz
SUMMARY:Taupo Sale - 480 Cattle & 110 Sheep
DESCRIPTION:Entries to Date:\n480 Cattle\n10 Cows\n23 2yr Steers – Ang Frsn X\n20 2yr Heifers – Here Frsn X\n10 1yr Steers – Beef\n10 1yr Heifers – Hereford\n20 1yr Heifers – Hereford Friesian X\n70 1yr Heifers – Angus Friesian X\n65 Weaner Bulls – Friesian\n70 Weaner Bulls – Here Frsn X\n160 Weaner Heifers – Here Frsn X\n15 Mixed Cattle \n110 Sheep\n50 Store Lambs\n60 Ewes \nFor enquires and further entries please call 0800833834 \nTaupo Saleyards is an accredited NAIT entity so we will scan and record the movement of your cattle. \nHowever\, all cattle must be NAIT tagged and all vendors must have their NAIT number. \nUntagged cattle will either be sent home or tagged with a saleyards approved NAIT tag at a maximum cost of $25 per head tagged. \nPlease note that all intending purchasers must be NAIT registered prior to the sale and must have a NAIT number when registering at the sale. \nWe are accredited providers and can assist by registering on your behalf for a small fee. \nASD forms HERE   Terms & Conditions HERE \n \n \n \n
URL:http://centrallivestock.co.nz/event/taupo-sale-6/
LOCATION:16 Oruanui Road\, Wairakei\, Waikato\, 3337\, New Zealand
END:VEVENT
END:VCALENDAR