BEGIN:VCALENDAR
VERSION:2.0
PRODID:-//Central Livestock - ECPv6.15.20//NONSGML v1.0//EN
CALSCALE:GREGORIAN
METHOD:PUBLISH
X-WR-CALNAME:Central Livestock
X-ORIGINAL-URL:https://centrallivestock.co.nz
X-WR-CALDESC:Events for Central Livestock
REFRESH-INTERVAL;VALUE=DURATION:PT1H
X-Robots-Tag:noindex
X-PUBLISHED-TTL:PT1H
BEGIN:VTIMEZONE
TZID:Pacific/Auckland
BEGIN:STANDARD
TZOFFSETFROM:+1300
TZOFFSETTO:+1200
TZNAME:NZST
DTSTART:20160402T140000
END:STANDARD
BEGIN:DAYLIGHT
TZOFFSETFROM:+1200
TZOFFSETTO:+1300
TZNAME:NZDT
DTSTART:20160924T140000
END:DAYLIGHT
BEGIN:STANDARD
TZOFFSETFROM:+1300
TZOFFSETTO:+1200
TZNAME:NZST
DTSTART:20170401T140000
END:STANDARD
BEGIN:DAYLIGHT
TZOFFSETFROM:+1200
TZOFFSETTO:+1300
TZNAME:NZDT
DTSTART:20170923T140000
END:DAYLIGHT
BEGIN:STANDARD
TZOFFSETFROM:+1300
TZOFFSETTO:+1200
TZNAME:NZST
DTSTART:20180331T140000
END:STANDARD
BEGIN:DAYLIGHT
TZOFFSETFROM:+1200
TZOFFSETTO:+1300
TZNAME:NZDT
DTSTART:20180929T140000
END:DAYLIGHT
END:VTIMEZONE
BEGIN:VEVENT
DTSTART;TZID=Pacific/Auckland:20170110T120000
DTEND;TZID=Pacific/Auckland:20170110T120000
DTSTAMP:20260424T112653
CREATED:20160901T131736Z
LAST-MODIFIED:20160901T131736Z
UID:659-1484049600-1484049600@centrallivestock.co.nz
SUMMARY:Puketoro Station 1st Annual Sheep & Steer Sale
DESCRIPTION:McNeil Farming Limited \nPuketoro Station \n1st Annual On Farm Sale – Tues 10th Jan 2017 \n2754 Ihungia Road\, Tokomaru Bay at 12 Noon\nPlease use the Ihungia Road to get to the property\n“There will be Direction Signs from Tokomaru Bay” \n6500 Sheep / 435 Steers \n750 Perendale 2th Ewes – Puketoro Bred (Rams X Longview “Maxwell” Tutira) Flock Scanned 174%\n750 Coopdale 2th Ewes – Mt Guardian Perendale Genetics by Coopworth Ram (Tested .6 FE Resistance) \n900 Perendale 5yr Ewes\n600 Perendale 6yr Ewes\n700 1 Year Perendale Ewes\nThe sale ewes scanned 174% and weaned 155% and will be presented  in very good condition\, November shorn.\n  \n600 Romdale 6yr Ewes\nSt Leger bred  X Tukemokihi Station \n2200 Perendale Male Lambs 29kg ave\nMinimum weight will be 27kg \n435 Top 1 Year Angus Steers (380 to 400kg)\n\n \n\nThe Steers will be sold at the conclusion of the Sheep\nLunch & Light refreshments provided\nThe auction will be run under the terms & conditions of the NZ Stock & Station Agents Assn\nGrazing by arrangement to work in with trucking\nA 1.5% Rebate will be available to purchasing Agents by arrangement prior to the sale\n\nContact: \nThe Auctioneer – Shane Scott 0274956031 or shane@centrallivestock.co.nz for further Information.\nThe Vendors – Burne Mc Neil 06 8638389 or Tennant Mc Neil 021864879 \n  \n 
URL:https://centrallivestock.co.nz/event/puketoro-station-1st-annual-sheep-sale/
END:VEVENT
END:VCALENDAR