BEGIN:VCALENDAR
VERSION:2.0
PRODID:-//Central Livestock - ECPv6.15.20//NONSGML v1.0//EN
CALSCALE:GREGORIAN
METHOD:PUBLISH
X-WR-CALNAME:Central Livestock
X-ORIGINAL-URL:https://centrallivestock.co.nz
X-WR-CALDESC:Events for Central Livestock
REFRESH-INTERVAL;VALUE=DURATION:PT1H
X-Robots-Tag:noindex
X-PUBLISHED-TTL:PT1H
BEGIN:VTIMEZONE
TZID:Pacific/Auckland
BEGIN:STANDARD
TZOFFSETFROM:+1300
TZOFFSETTO:+1200
TZNAME:NZST
DTSTART:20180331T140000
END:STANDARD
BEGIN:DAYLIGHT
TZOFFSETFROM:+1200
TZOFFSETTO:+1300
TZNAME:NZDT
DTSTART:20180929T140000
END:DAYLIGHT
BEGIN:STANDARD
TZOFFSETFROM:+1300
TZOFFSETTO:+1200
TZNAME:NZST
DTSTART:20190406T140000
END:STANDARD
BEGIN:DAYLIGHT
TZOFFSETFROM:+1200
TZOFFSETTO:+1300
TZNAME:NZDT
DTSTART:20190928T140000
END:DAYLIGHT
BEGIN:STANDARD
TZOFFSETFROM:+1300
TZOFFSETTO:+1200
TZNAME:NZST
DTSTART:20200404T140000
END:STANDARD
BEGIN:DAYLIGHT
TZOFFSETFROM:+1200
TZOFFSETTO:+1300
TZNAME:NZDT
DTSTART:20200926T140000
END:DAYLIGHT
END:VTIMEZONE
BEGIN:VEVENT
DTSTART;TZID=Pacific/Auckland:20190108T120000
DTEND;TZID=Pacific/Auckland:20190108T120000
DTSTAMP:20260424T112744
CREATED:20181120T065329Z
LAST-MODIFIED:20181120T065329Z
UID:5785-1546948800-1546948800@centrallivestock.co.nz
SUMMARY:Puketoro Station 3rd Annual On Farm Sale - Tuesday 8th Jan 2019
DESCRIPTION:3rd Annual On Farm Sale – Tuesday  8th Jan 2019\n12 Noon Start\n2754 Ihungia Road\, Tokomaru Bay at 12 Noon \n8100 Sheep / 720 Steers \n5600 Ewes\nComprising of:\n1000 Perendale 2th Ewes\, 1200 Romdale 2th Ewes \n400 Coopdale 2th Ewes\, 200 Romney 2th Ewes\n580 4 & 5yr Cap Stock Te Whangai Romney Ewes\n(Docked 180%)\n1100 Perendale 5yr Ewes\, 400 Coopdale 5yr Ewes\, 700 M/a Perendale Ewes\nThe station bred Ewes docked 150% to the Ram and will be presented in very good condition. July Shorn – All mouthed & uddered.\nThe Coopdale Ewes are by eczema tolerant rams.\n\n \n2500 Romdale Crypto Lambs \nThe weights will range from 25 to 34kg approx. – Woolly\n \n92 2 Year Angus & Ang X Steers\nThey will be in forward store condition with an average weight of 515kg – Ranging from 480 to 560kg\nAngus Bloodlines include Whangara\, Kaharau\, Turihaua\nAll steers by Angus Sires carry an Angus Pure Tag\n \n627 1 Year Angus Steers\nComprising of:\n172 @ 423kg Ave\nRanging from 400 to 440kg\n100 @ 405kg Ave\nRanging from 380 to 444kg\n211 @ 385kg Ave\nRanging from 360 to 400kg\n144 @ 350kg Ave\nRanging from 340 to 360kg\nAngus Bloodlines include Whangara\, Kaharau\, Turihaua\nAll steers by Angus Sires carry an Angus Pure Tag\n \n\n\nThe Steers will be sold at the conclusion of the Sheep\nLunch & Light refreshments provided\nThe auction will be run under the terms & conditions of the NZ Stock & Station Agents Assn – GST Exclusive\nGrazing strictly limited to work in with trucking only – By Arrangement\nA 1.5% Rebate will be available to purchasing Agents by arrangement prior to the sale\n\nAuctioneers note \nMcNeil farming is proud to be able to offer buyers an outstanding line up of Ewes\, Lambs & Steers. On larger lines\, Sheep & Cattle will be offered in reasonably sized run-out or unit loads. The photos above were taken in early December.  Off the high country at the foot of Mount Hikurangi\, buyers can have the confidence in the ability of stock from Puketoro Station to shift well. \nThose who travel to the sale will enjoy the top-notch hospitality. \nDirections\n2754 Ihungia Road\, Tokomaru Bay\nPlease use the Ihungia from Tokomaru Bay as Logging trucks will be using the Mata Road\nPlease be aware of oncoming traffic and drive with Caution \nContact \nThe Auctioneer:  Shane Scott 0274956031 or email shane@centrallivestock.co.nz\nThe Vendor’s:  Burne Mc Neil 06 8638389 or Tennant Mc Neil 021864879 \nDownload Sale Brochure HERE \nView updated information at:\nwww.centrallivestock .co.nz\nFacebook Central Livestock – Puketoro Sale
URL:https://centrallivestock.co.nz/event/puketoro-station-3rd-annual-on-farm-sale-tuesday-8th-jan-2019/
END:VEVENT
END:VCALENDAR