BEGIN:VCALENDAR
VERSION:2.0
PRODID:-//Central Livestock - ECPv6.15.20//NONSGML v1.0//EN
CALSCALE:GREGORIAN
METHOD:PUBLISH
X-WR-CALNAME:Central Livestock
X-ORIGINAL-URL:https://centrallivestock.co.nz
X-WR-CALDESC:Events for Central Livestock
REFRESH-INTERVAL;VALUE=DURATION:PT1H
X-Robots-Tag:noindex
X-PUBLISHED-TTL:PT1H
BEGIN:VTIMEZONE
TZID:Pacific/Auckland
BEGIN:STANDARD
TZOFFSETFROM:+1300
TZOFFSETTO:+1200
TZNAME:NZST
DTSTART:20200404T140000
END:STANDARD
BEGIN:DAYLIGHT
TZOFFSETFROM:+1200
TZOFFSETTO:+1300
TZNAME:NZDT
DTSTART:20200926T140000
END:DAYLIGHT
BEGIN:STANDARD
TZOFFSETFROM:+1300
TZOFFSETTO:+1200
TZNAME:NZST
DTSTART:20210403T140000
END:STANDARD
BEGIN:DAYLIGHT
TZOFFSETFROM:+1200
TZOFFSETTO:+1300
TZNAME:NZDT
DTSTART:20210925T140000
END:DAYLIGHT
BEGIN:STANDARD
TZOFFSETFROM:+1300
TZOFFSETTO:+1200
TZNAME:NZST
DTSTART:20220402T140000
END:STANDARD
BEGIN:DAYLIGHT
TZOFFSETFROM:+1200
TZOFFSETTO:+1300
TZNAME:NZDT
DTSTART:20220924T140000
END:DAYLIGHT
END:VTIMEZONE
BEGIN:VEVENT
DTSTART;TZID=Pacific/Auckland:20210105T120000
DTEND;TZID=Pacific/Auckland:20210105T120000
DTSTAMP:20260424T111731
CREATED:20201124T142233Z
LAST-MODIFIED:20201124T142233Z
UID:8019-1609848000-1609848000@centrallivestock.co.nz
SUMMARY:Puketoro Station 5th Annual On Farm Sale - Tuesday 5th Jan 2021
DESCRIPTION:5th Annual On Farm Sale – Tuesday 5th Jan 2021\n12 Noon Start\n2754 Ihungia Road\, Tokomaru Bay at 12 Noon \n9300 Sheep \n700 Steers \nAccount of\nPuketoro Station\n800 2 Tooth Romdale Ewes\n2300 5 Year Perendale Ewes \n2000 Romdale Crypto Lambs\nThe weights will range from 25 to 33kg approx. – Woolly \n700 1 Year Angus Steers\nWill be drafted into weight ranges \nWeights will range from 430kg to 340kg\nAngus Bloodlines include Whangara\, Kaharau\, Turihaua \nAccount of\nMc Neil Farming – Mahanga\nCapital Stock – Due to a change of faming policy\n \n1400 2 Tooth Coopdale Ewes\n1400 2 Tooth Romdale Ewes\n(Puketoro Bred)\n600 4 Tooth Coopdale Ewes\n400 6 Tooth Coopdale Ewes\n400 4 Year Coopdale Ewes\n \nClick on photos below to enlarge\nSample shots of ewes X Puketoro & Mahanga \nno images were found \n  \n\n\nThe Steers will be sold 30 minutes after the conclusion of the Sheep\nLunch & Light refreshments provided\nThe auction will be run under the terms & conditions of the NZ Stock & Station Agents Assn – GST Exclusive\nGrazing strictly limited to work in with trucking only – By Arrangement\nA 1.5% Rebate will be available to purchasing Agents by arrangement prior to the sale\n\nAuctioneers note \nMcNeil farming is proud to be able to offer buyers an outstanding line up of Ewes\, Lambs & Steers. On larger lines\, Sheep & Cattle will be offered in reasonably sized run-out or unit loads. Off the high country at the foot of Mount Hikurangi\, buyers can have confidence in the ability of stock from Puketoro Station to shift well. \nDue to a chance of farming policy\, Mc Neil Faming are offering buyers the unique opportunity to buy\n4300 Capital Stock Ewes from the Mahanga Station block at Tikitiki\nThe bulk of the Ewes are Coopdale and are known for their fertility combined with the hardiness of the Perendale. \nThose who travel to the sale will enjoy top-notch hospitality. \nDirections\n2754 Ihungia Road\, Tokomaru Bay\nPlease use the Ihungia from Tokomaru Bay as Logging trucks will be using the Mata Road\nPlease be aware of oncoming traffic and drive with Caution \nContact \nThe Auctioneer:  Shane Scott 0274956031 or email shane@centrallivestock.co.nz\nThe Vendor’s:  Burne Mc Neil 06 8638389 or Tennant Mc Neil 021864879\n \nDownload the sale flyer here \n\n\n\n		\n				\n						\n			\n								\n			\n		\n							\n			\n				\n						\n			\n								\n			\n		\n							\n			\n				\n						\n			\n								\n			\n		\n							\n			\n				\n						\n			\n								\n			\n		\n							\n			\n				\n						\n			\n								\n			\n		\n							\n			\n				\n						\n			\n								\n			\n		\n							\n			\n				\n						\n			\n								\n			\n		\n							\n			\n				\n						\n			\n								\n			\n		\n							\n			\n				\n						\n			\n								\n			\n		\n							\n			\n				\n						\n			\n								\n			\n		\n							\n			\n				\n						\n			\n								\n			\n		\n							\n			\n				\n						\n			\n								\n			\n		\n							\n			\n				\n						\n			\n								\n			\n		\n							\n			\n				\n						\n			\n								\n			\n		\n							\n			\n				\n						\n			\n								\n			\n		\n							\n			\n				\n						\n			\n								\n			\n		\n							\n			\n				\n						\n			\n								\n			\n		\n							\n			\n				\n						\n			\n								\n			\n		\n							\n			\n				\n						\n			\n								\n			\n		\n							\n			\n				\n						\n			\n								\n			\n		\n							\n			\n	\n	\n\n		\n		[Show slideshow]\n\n	\n	\n		\n		1\n2\n►	\n\n  \nView updated information at:\nwww.centrallivestock .co.nz
URL:https://centrallivestock.co.nz/event/puketoro-station-5th-annual-on-farm-sale-tuesday-5th-jan-2021/
END:VEVENT
END:VCALENDAR