BEGIN:VCALENDAR
VERSION:2.0
PRODID:-//Central Livestock - ECPv6.15.20//NONSGML v1.0//EN
CALSCALE:GREGORIAN
METHOD:PUBLISH
X-WR-CALNAME:Central Livestock
X-ORIGINAL-URL:https://centrallivestock.co.nz
X-WR-CALDESC:Events for Central Livestock
REFRESH-INTERVAL;VALUE=DURATION:PT1H
X-Robots-Tag:noindex
X-PUBLISHED-TTL:PT1H
BEGIN:VTIMEZONE
TZID:UTC
BEGIN:STANDARD
TZOFFSETFROM:+0000
TZOFFSETTO:+0000
TZNAME:UTC
DTSTART:20150101T000000
END:STANDARD
END:VTIMEZONE
BEGIN:VEVENT
DTSTART;TZID=UTC:20160916T130000
DTEND;TZID=UTC:20160916T130000
DTSTAMP:20260424T112542
CREATED:20160817T010524Z
LAST-MODIFIED:20160817T010524Z
UID:589-1474030800-1474030800@centrallivestock.co.nz
SUMMARY:Stokman / Heather Dell - Angus Yearling Bull Sale
DESCRIPTION:Annual Sale\n80 Top 1 Year Angus Bulls\n \nFurther Details including catalogues to come
URL:https://centrallivestock.co.nz/event/stokman-heather-dell-angus-yearling-bull-sale/
END:VEVENT
END:VCALENDAR