BEGIN:VCALENDAR
VERSION:2.0
PRODID:-//Central Livestock - ECPv6.15.20//NONSGML v1.0//EN
CALSCALE:GREGORIAN
METHOD:PUBLISH
X-WR-CALNAME:Central Livestock
X-ORIGINAL-URL:https://centrallivestock.co.nz
X-WR-CALDESC:Events for Central Livestock
REFRESH-INTERVAL;VALUE=DURATION:PT1H
X-Robots-Tag:noindex
X-PUBLISHED-TTL:PT1H
BEGIN:VTIMEZONE
TZID:Pacific/Auckland
BEGIN:STANDARD
TZOFFSETFROM:+1300
TZOFFSETTO:+1200
TZNAME:NZST
DTSTART:20150404T140000
END:STANDARD
BEGIN:DAYLIGHT
TZOFFSETFROM:+1200
TZOFFSETTO:+1300
TZNAME:NZDT
DTSTART:20150926T140000
END:DAYLIGHT
BEGIN:STANDARD
TZOFFSETFROM:+1300
TZOFFSETTO:+1200
TZNAME:NZST
DTSTART:20160402T140000
END:STANDARD
BEGIN:DAYLIGHT
TZOFFSETFROM:+1200
TZOFFSETTO:+1300
TZNAME:NZDT
DTSTART:20160924T140000
END:DAYLIGHT
BEGIN:STANDARD
TZOFFSETFROM:+1300
TZOFFSETTO:+1200
TZNAME:NZST
DTSTART:20170401T140000
END:STANDARD
BEGIN:DAYLIGHT
TZOFFSETFROM:+1200
TZOFFSETTO:+1300
TZNAME:NZDT
DTSTART:20170923T140000
END:DAYLIGHT
END:VTIMEZONE
BEGIN:VEVENT
DTSTART;TZID=Pacific/Auckland:20161013T120000
DTEND;TZID=Pacific/Auckland:20161013T120000
DTSTAMP:20260424T111529
CREATED:20160901T130148Z
LAST-MODIFIED:20160901T130148Z
UID:654-1476360000-1476360000@centrallivestock.co.nz
SUMMARY:Taupo Cattle Sale
DESCRIPTION:Entries to Date: \n 420 Cattle \n40 2yr Angus & Angus X Strs\n10 2yr Strs Beef X\n30 2yr Bulls Beef X\n5 2yr Hfrs Ang Frsn\n35 1yr Strs Ang Frsn X\n12 1yr Strs Frsn\n130 1yr Bulls Friesian\n26 1yr Bulls Here X\n36 1yr Heifers Angus Friesian X\n50 1yr Heifers Hereford X\n13 Wnr A/Born Charo & Simm X Strs\n13 Wnr A/Born Charo & Simm X Hfrs\n20 Wnr Here Frsn X Bulls & Hfrs \nSheep\n80 Ewe Hoggets with Lambs at Foot \nFor enquires and further entries please call 0800833834 \nTaupo Saleyards is an accredited NAIT entity so we will scan and record the movement of your cattle. \nHowever all cattle must be NAIT tagged and all vendors must have their NAIT number. \nUntagged cattle will either be sent home or tagged with a saleyards approved NAIT tag at a maxumum cost of $25 per head tagged. \nPlease note that all intending purchasers must be NAIT registered prior to the sale and must have a NAIT number when registering at the sale. \nWe are accredited providers and can assist by registering on your behalf for a small fee. \nASD forms HERE   Terms & Conditions HERE
URL:https://centrallivestock.co.nz/event/taupo-cattle-sale-3/
END:VEVENT
END:VCALENDAR