BEGIN:VCALENDAR
VERSION:2.0
PRODID:-//Central Livestock - ECPv6.15.20//NONSGML v1.0//EN
CALSCALE:GREGORIAN
METHOD:PUBLISH
X-WR-CALNAME:Central Livestock
X-ORIGINAL-URL:https://centrallivestock.co.nz
X-WR-CALDESC:Events for Central Livestock
REFRESH-INTERVAL;VALUE=DURATION:PT1H
X-Robots-Tag:noindex
X-PUBLISHED-TTL:PT1H
BEGIN:VTIMEZONE
TZID:Pacific/Auckland
BEGIN:STANDARD
TZOFFSETFROM:+1300
TZOFFSETTO:+1200
TZNAME:NZST
DTSTART:20150404T140000
END:STANDARD
BEGIN:DAYLIGHT
TZOFFSETFROM:+1200
TZOFFSETTO:+1300
TZNAME:NZDT
DTSTART:20150926T140000
END:DAYLIGHT
BEGIN:STANDARD
TZOFFSETFROM:+1300
TZOFFSETTO:+1200
TZNAME:NZST
DTSTART:20160402T140000
END:STANDARD
BEGIN:DAYLIGHT
TZOFFSETFROM:+1200
TZOFFSETTO:+1300
TZNAME:NZDT
DTSTART:20160924T140000
END:DAYLIGHT
BEGIN:STANDARD
TZOFFSETFROM:+1300
TZOFFSETTO:+1200
TZNAME:NZST
DTSTART:20170401T140000
END:STANDARD
BEGIN:DAYLIGHT
TZOFFSETFROM:+1200
TZOFFSETTO:+1300
TZNAME:NZDT
DTSTART:20170923T140000
END:DAYLIGHT
END:VTIMEZONE
BEGIN:VEVENT
DTSTART;TZID=Pacific/Auckland:20161215T120000
DTEND;TZID=Pacific/Auckland:20161215T120000
DTSTAMP:20260424T112414
CREATED:20160901T133502Z
LAST-MODIFIED:20160901T133502Z
UID:667-1481803200-1481803200@centrallivestock.co.nz
SUMMARY:Taupo Cattle Sale - 680 Head
DESCRIPTION:680 Cattle\n40 2 Year Steers\n14 2 Year Bulls\n6   2 Year Heifers\n60 1 Year Steers\n70 1 Year Friesian Bulls\n10 1 Year Beef Bulls\n25 1 Year Pure Angus Heifers\n90 1 Year Beef X Heifers\n43 Aut Born Ang Frsn X Steers 200kg\n45 Aut Born Bulls – Frsn & X Bred\n100 Wnr Friesian Bulls\n80 Wnr D/Beef x Bulls\n30 Wnr Angus Frsn X Heifers\n80 Wnr D/Beef X Heifers \nSheep\n100 Approx Ewes\, Hoggets & Lambs \nFor a detailed list of cattle entries CLICK HERE \nFor enquires and further entries please call 0800833834 \nTaupo Saleyards is an accredited NAIT entity so we will scan and record the movement of your cattle. \nHowever all cattle must be NAIT tagged and all vendors must have their NAIT number. \nUntagged cattle will either be sent home or tagged with a saleyards approved NAIT tag at a maxumum cost of $25 per head tagged. \nPlease note that all intending purchasers must be NAIT registered prior to the sale and must have a NAIT number when registering at the sale. \nWe are accredited providers and can assist by registering on your behalf for a small fee. \nASD forms HERE   Terms & Conditions HERE
URL:https://centrallivestock.co.nz/event/taupo-cattle-sale-4/
END:VEVENT
END:VCALENDAR