BEGIN:VCALENDAR
VERSION:2.0
PRODID:-//Central Livestock - ECPv6.15.20//NONSGML v1.0//EN
CALSCALE:GREGORIAN
METHOD:PUBLISH
X-WR-CALNAME:Central Livestock
X-ORIGINAL-URL:https://centrallivestock.co.nz
X-WR-CALDESC:Events for Central Livestock
REFRESH-INTERVAL;VALUE=DURATION:PT1H
X-Robots-Tag:noindex
X-PUBLISHED-TTL:PT1H
BEGIN:VTIMEZONE
TZID:Pacific/Auckland
BEGIN:STANDARD
TZOFFSETFROM:+1300
TZOFFSETTO:+1200
TZNAME:NZST
DTSTART:20170401T140000
END:STANDARD
BEGIN:DAYLIGHT
TZOFFSETFROM:+1200
TZOFFSETTO:+1300
TZNAME:NZDT
DTSTART:20170923T140000
END:DAYLIGHT
BEGIN:STANDARD
TZOFFSETFROM:+1300
TZOFFSETTO:+1200
TZNAME:NZST
DTSTART:20180331T140000
END:STANDARD
BEGIN:DAYLIGHT
TZOFFSETFROM:+1200
TZOFFSETTO:+1300
TZNAME:NZDT
DTSTART:20180929T140000
END:DAYLIGHT
BEGIN:STANDARD
TZOFFSETFROM:+1300
TZOFFSETTO:+1200
TZNAME:NZST
DTSTART:20190406T140000
END:STANDARD
BEGIN:DAYLIGHT
TZOFFSETFROM:+1200
TZOFFSETTO:+1300
TZNAME:NZDT
DTSTART:20190928T140000
END:DAYLIGHT
END:VTIMEZONE
BEGIN:VEVENT
DTSTART;TZID=Pacific/Auckland:20180524T120000
DTEND;TZID=Pacific/Auckland:20180524T170000
DTSTAMP:20260424T112302
CREATED:20180313T145752Z
LAST-MODIFIED:20180313T145752Z
UID:5274-1527163200-1527181200@centrallivestock.co.nz
SUMMARY:TAUPO SALE - 260 Cattle
DESCRIPTION:SHEEP at 11.30am \n20 Mixed Sex Lambs – Fat & Forward \n260 CATTLE at 12 Noon \nComprising of:\n35 R2 Strs Frsn Here\n20 R2 Strs Beef X\n35 R2 Hfrs Frsn Here X \n15 R2 Hfrs Beef X\n20 1yr Hfrs Aut Born Frsn Here X\n12 R1yr Bulls Speckle Park\n15 Wnr Bulls – Friesian\n10 Wnr Hfrs Ang Ang X \n18 Wnr Hfrs Hereford\n20 Wnr Hfrs Beef X\n11 Wnr Hfrs Friesian\n11 Wnr Highland Cattle\n15 R2 Assorted Cattle\n25 Wnr Mixed Dairy Beef Cattle \nFurther entries being taken
URL:https://centrallivestock.co.nz/event/taupo-sale-10/
END:VEVENT
END:VCALENDAR