BEGIN:VCALENDAR
VERSION:2.0
PRODID:-//Central Livestock - ECPv6.15.20//NONSGML v1.0//EN
CALSCALE:GREGORIAN
METHOD:PUBLISH
X-WR-CALNAME:Central Livestock
X-ORIGINAL-URL:https://centrallivestock.co.nz
X-WR-CALDESC:Events for Central Livestock
REFRESH-INTERVAL;VALUE=DURATION:PT1H
X-Robots-Tag:noindex
X-PUBLISHED-TTL:PT1H
BEGIN:VTIMEZONE
TZID:Pacific/Auckland
BEGIN:STANDARD
TZOFFSETFROM:+1300
TZOFFSETTO:+1200
TZNAME:NZST
DTSTART:20170401T140000
END:STANDARD
BEGIN:DAYLIGHT
TZOFFSETFROM:+1200
TZOFFSETTO:+1300
TZNAME:NZDT
DTSTART:20170923T140000
END:DAYLIGHT
BEGIN:STANDARD
TZOFFSETFROM:+1300
TZOFFSETTO:+1200
TZNAME:NZST
DTSTART:20180331T140000
END:STANDARD
BEGIN:DAYLIGHT
TZOFFSETFROM:+1200
TZOFFSETTO:+1300
TZNAME:NZDT
DTSTART:20180929T140000
END:DAYLIGHT
BEGIN:STANDARD
TZOFFSETFROM:+1300
TZOFFSETTO:+1200
TZNAME:NZST
DTSTART:20190406T140000
END:STANDARD
BEGIN:DAYLIGHT
TZOFFSETFROM:+1200
TZOFFSETTO:+1300
TZNAME:NZDT
DTSTART:20190928T140000
END:DAYLIGHT
END:VTIMEZONE
BEGIN:VEVENT
DTSTART;TZID=Pacific/Auckland:20181122T120000
DTEND;TZID=Pacific/Auckland:20181122T170000
DTSTAMP:20260424T113422
CREATED:20180313T150527Z
LAST-MODIFIED:20180313T150527Z
UID:5286-1542888000-1542906000@centrallivestock.co.nz
SUMMARY:TAUPO SALE - 500 Cattle
DESCRIPTION:500 Cattle\nComprising of: \n25 3yr Ang Frsn X Steers\n20 3yr Frsn Steers\n35 2yr Dairy Beef & Hereford X Steers\n70 1yr Dairy Beef X Steers\n42 1yr Friesian Bulls\n10 1yr Friesian X Bulls\n8 1yr Hereford Heifers\n126 1yr Hereford Frsn X Heifers\n37 1yr Angus Friesian X Heifers\n30 1yr Dairy Beef X Heifers\n20 Aut Born R1yr Simm X Strs & Hfrs\n20 Aut Born R1yr Here Frsn X Heifers\n16 Aut Born Dairy X Wnr Bulls\n20 Weaner Here Friesian X Heifers\n20 Assorted Cattle \nFor detailed entries CLICK HERE \nTaupo Saleyards is an accredited NAIT entity so we will scan and record the movement of your cattle. \nHowever\, all cattle must be NAIT tagged and all vendors must have their NAIT number. \nUntagged cattle will either be sent home or tagged with a saleyards approved NAIT tag at a maximum cost of $25 per head tagged. \nPlease note that all intending purchasers must be NAIT registered prior to the sale and must have a NAIT number when registering at the sale. \nWe are accredited providers and can assist by registering on your behalf for a small fee. \nASD forms HERE   Terms & Conditions HERE
URL:https://centrallivestock.co.nz/event/taupo-sale-15/
END:VEVENT
END:VCALENDAR