BEGIN:VCALENDAR
VERSION:2.0
PRODID:-//Central Livestock - ECPv6.15.20//NONSGML v1.0//EN
CALSCALE:GREGORIAN
METHOD:PUBLISH
X-WR-CALNAME:Central Livestock
X-ORIGINAL-URL:https://centrallivestock.co.nz
X-WR-CALDESC:Events for Central Livestock
REFRESH-INTERVAL;VALUE=DURATION:PT1H
X-Robots-Tag:noindex
X-PUBLISHED-TTL:PT1H
BEGIN:VTIMEZONE
TZID:Pacific/Auckland
BEGIN:STANDARD
TZOFFSETFROM:+1300
TZOFFSETTO:+1200
TZNAME:NZST
DTSTART:20170401T140000
END:STANDARD
BEGIN:DAYLIGHT
TZOFFSETFROM:+1200
TZOFFSETTO:+1300
TZNAME:NZDT
DTSTART:20170923T140000
END:DAYLIGHT
BEGIN:STANDARD
TZOFFSETFROM:+1300
TZOFFSETTO:+1200
TZNAME:NZST
DTSTART:20180331T140000
END:STANDARD
BEGIN:DAYLIGHT
TZOFFSETFROM:+1200
TZOFFSETTO:+1300
TZNAME:NZDT
DTSTART:20180929T140000
END:DAYLIGHT
BEGIN:STANDARD
TZOFFSETFROM:+1300
TZOFFSETTO:+1200
TZNAME:NZST
DTSTART:20190406T140000
END:STANDARD
BEGIN:DAYLIGHT
TZOFFSETFROM:+1200
TZOFFSETTO:+1300
TZNAME:NZDT
DTSTART:20190928T140000
END:DAYLIGHT
END:VTIMEZONE
BEGIN:VEVENT
DTSTART;TZID=Pacific/Auckland:20181213T120000
DTEND;TZID=Pacific/Auckland:20181213T170000
DTSTAMP:20260424T112358
CREATED:20180313T150616Z
LAST-MODIFIED:20180313T150616Z
UID:5288-1544702400-1544720400@centrallivestock.co.nz
SUMMARY:TAUPO SALE - CANCELLED
DESCRIPTION:Unfortunately\, due to the abundance of grass\, not enough people want to sell their cattle this month\nSo due to lack of numbers\, we have had to cancel the sale. \nTaupo Saleyards is an accredited NAIT entity so we will scan and record the movement of your cattle. \nHowever\, all cattle must be NAIT tagged and all vendors must have their NAIT number. \nUntagged cattle will either be sent home or tagged with a saleyards approved NAIT tag at a maximum cost of $25 per head tagged. \nPlease note that all intending purchasers must be NAIT registered prior to the sale and must have a NAIT number when registering at the sale. \nWe are accredited providers and can assist by registering on your behalf for a small fee. \nASD forms HERE   Terms & Conditions HERE
URL:https://centrallivestock.co.nz/event/taupo-sale-16/
END:VEVENT
END:VCALENDAR