BEGIN:VCALENDAR
VERSION:2.0
PRODID:-//Central Livestock - ECPv6.15.20//NONSGML v1.0//EN
CALSCALE:GREGORIAN
METHOD:PUBLISH
X-WR-CALNAME:Central Livestock
X-ORIGINAL-URL:https://centrallivestock.co.nz
X-WR-CALDESC:Events for Central Livestock
REFRESH-INTERVAL;VALUE=DURATION:PT1H
X-Robots-Tag:noindex
X-PUBLISHED-TTL:PT1H
BEGIN:VTIMEZONE
TZID:Pacific/Auckland
BEGIN:STANDARD
TZOFFSETFROM:+1300
TZOFFSETTO:+1200
TZNAME:NZST
DTSTART:20180331T140000
END:STANDARD
BEGIN:DAYLIGHT
TZOFFSETFROM:+1200
TZOFFSETTO:+1300
TZNAME:NZDT
DTSTART:20180929T140000
END:DAYLIGHT
BEGIN:STANDARD
TZOFFSETFROM:+1300
TZOFFSETTO:+1200
TZNAME:NZST
DTSTART:20190406T140000
END:STANDARD
BEGIN:DAYLIGHT
TZOFFSETFROM:+1200
TZOFFSETTO:+1300
TZNAME:NZDT
DTSTART:20190928T140000
END:DAYLIGHT
BEGIN:STANDARD
TZOFFSETFROM:+1300
TZOFFSETTO:+1200
TZNAME:NZST
DTSTART:20200404T140000
END:STANDARD
BEGIN:DAYLIGHT
TZOFFSETFROM:+1200
TZOFFSETTO:+1300
TZNAME:NZDT
DTSTART:20200926T140000
END:DAYLIGHT
END:VTIMEZONE
BEGIN:VEVENT
DTSTART;TZID=Pacific/Auckland:20190321T120000
DTEND;TZID=Pacific/Auckland:20190321T120000
DTSTAMP:20260424T115631
CREATED:20181120T072021Z
LAST-MODIFIED:20181120T072021Z
UID:5796-1553169600-1553169600@centrallivestock.co.nz
SUMMARY:TAUPO SALE - 725 Cattle
DESCRIPTION:725 Head\n30 R3yr Steers – Frsn & Frsn X 500 to 550kg\n17 R3yr Heifers – Angus 450 to 500kg\n10 R3yr Heifers – Murray Grey X RW M Grey Bull\n28 R2yr Steers – Angus & Angus Here X 460kg\n25 R2yr Angus Steers 350kg approx\n50 R2yr Steers – Angus Frsn X 400kg\n35 R2yr Steers – Here Frsn X 400kg +/-\n68 R2yr Heifers – Angus & Angus Here X 330 to 360kg\n118 R2yr Heifers – Here Frsn X in lines from 350 to 450kg\n13 R2yr Heifers – Angus Frsn X 400kg +/-\n10 R2yr Heifers – Friesian & Frsn X\n67 1Yr (Aut Born) Steers – Here Frsn 330/350kg \n63 1Yr (Aut Born) Bulls  – Beef X 300kg\n35 1Yr (Aut Born) Bulls – Frsn & Frsn X\n30 1Yr (Aut Born) Heifers – Here Frsn X 250kg\n30 Wnr Bulls – Friesian\n45 Wnr Bulls – Dairy Beef X\n30 Wnr Heifers – Dairy Beef X\n15 Wnr Heifers – Friesian\n12 Assorted Cattle \nFeatured Entries\nA/c Armer Farms\n50 18mth Angus Friesian X Steers (400kg) \nA/c St George by the Sea \n25 18mth Angus Steers\n35 18mth Angus Heifers \nA/c Slow Stream Farm\n57 1yr Autumn Born Here Frsn X Steers (330kg)\n15 1yr Autumn Born Here Frsn X Heifers \nA/c R Harvey\n30 R3yr Friesian & Friesian X Steers (500/550kg) \nA/c Parkhill Farms\n43 R2yr Here Frsn X Heifers (430kg) \nA/c Whenuatupu Ohinemoa Station\n28 18mth Angus Steers\n18 18mth Angus Heifers \nFor a list of detailed entries – CLICK HERE \nCheck out the photo gallery of some of the lines coming to the sale \n \nno images were found   \nEntries are still currently being taken  \nThe entry list is updated daily \nTaupo Saleyards is an accredited NAIT entity so we will scan and record the movement of your cattle. \nHowever\, all cattle must be NAIT tagged and all vendors must have their NAIT number. \nUntagged cattle will either be sent home or tagged with a saleyards approved NAIT tag at a maximum cost of $25 per head tagged. \nPlease note that all intending purchasers must be NAIT registered prior to the sale and must have a NAIT number when registering at the sale. \nWe are accredited providers and can assist by registering on your behalf for a small fee. \nASD forms HERE   Terms & Conditions HERE
URL:https://centrallivestock.co.nz/event/taupo-sale-17/
END:VEVENT
END:VCALENDAR