BEGIN:VCALENDAR
VERSION:2.0
PRODID:-//Central Livestock - ECPv6.15.20//NONSGML v1.0//EN
CALSCALE:GREGORIAN
METHOD:PUBLISH
X-WR-CALNAME:Central Livestock
X-ORIGINAL-URL:https://centrallivestock.co.nz
X-WR-CALDESC:Events for Central Livestock
REFRESH-INTERVAL;VALUE=DURATION:PT1H
X-Robots-Tag:noindex
X-PUBLISHED-TTL:PT1H
BEGIN:VTIMEZONE
TZID:Pacific/Auckland
BEGIN:STANDARD
TZOFFSETFROM:+1300
TZOFFSETTO:+1200
TZNAME:NZST
DTSTART:20180331T140000
END:STANDARD
BEGIN:DAYLIGHT
TZOFFSETFROM:+1200
TZOFFSETTO:+1300
TZNAME:NZDT
DTSTART:20180929T140000
END:DAYLIGHT
BEGIN:STANDARD
TZOFFSETFROM:+1300
TZOFFSETTO:+1200
TZNAME:NZST
DTSTART:20190406T140000
END:STANDARD
BEGIN:DAYLIGHT
TZOFFSETFROM:+1200
TZOFFSETTO:+1300
TZNAME:NZDT
DTSTART:20190928T140000
END:DAYLIGHT
BEGIN:STANDARD
TZOFFSETFROM:+1300
TZOFFSETTO:+1200
TZNAME:NZST
DTSTART:20200404T140000
END:STANDARD
BEGIN:DAYLIGHT
TZOFFSETFROM:+1200
TZOFFSETTO:+1300
TZNAME:NZDT
DTSTART:20200926T140000
END:DAYLIGHT
END:VTIMEZONE
BEGIN:VEVENT
DTSTART;TZID=Pacific/Auckland:20191107T120000
DTEND;TZID=Pacific/Auckland:20191107T120000
DTSTAMP:20260424T112359
CREATED:20181120T072337Z
LAST-MODIFIED:20181120T072337Z
UID:5802-1573128000-1573128000@centrallivestock.co.nz
SUMMARY:TAUPO SALE - 880 Cattle entered to date
DESCRIPTION:Entries To Date comprise of:\nIn Summary: \n880 Cattle\n30 2yr Ang Frsn Steers \n40 2yr F/FH X Steers\n30 2yr Beef & Here Frsn X Heifers\n125 1yr Ang & Here Frsn X Steers\n80 1yr Frsn Bulls \n40 1yr Frsn X Bulls\n20 1yr Beef X Bulls\n200 1yr Here Frsn X Heifers\n35 1yr Ang Frsn Heifers\n32 MG Frsn X Heifers\n35 1yr Beef X Heifers\n50 Wnr (AB) Exotic & H/Frsn X Steers\n70 Wnr (AB) Frsn & Frsn X Bulls\n35 Wnr (AB) Exotic & H/Frsn X Heifers\n60 Wnr (AB) Frsn Beef X Heifers\n10 Assorted Cattle \nSpecial Entries:\nG & S Morris\n30 2yr Angus Friesian Steers\n20 1yr Friesian Bulls\n6 2yr Angus Heifers \nTruro Farms\n40 1yr Angus Friesian Steers\n33 1yr Angus Friesian Heifers \nGardon Limited\n60 1yr Friesian Bulls 220 to 300kg (3 Lines) \nHarakeke Land Co\n150 1yr Hereford Friesian X Heifers\nAnnual Line – Owner Bred 280/300kg – To be Drafted \nPentire Farm\n50 Aut Born Weaner Steers & Heifers\nBy Angus over Hereford Friesian – approx 160kg \nA Koster\n42 Aut Born Weaner Heifers\nHere Frsn & Beef X 130 to 170kg \nDetailed List: \n\n\n\nTally\nAge\nClass\nDescription\n\n\n8\n2yr\nStr\nFriesian 500kg\n\n\n10\n2yr\nStr\nHere Frsn X (Red) 480/500kg\n\n\n30\n2yr\nStr\nAngus Frsn X 380/400kg\n\n\n18\n2yr\nStr\nHere Frsn X\n\n\n6\n2yr\nHfr\nAngus\n\n\n18\n2yr\nHfr\nHereford X 380/400kg\n\n\n6\n2yr\nMixed\nSteers & Heifers Beef X\n\n\n40\n1yr\nStr\nAngus Friesian 350kg\n\n\n7\n1yr\nStr\nSimm X 400kg\n\n\n10\n1yr\nStr\nHereford X\n\n\n12\n1yr\nStr\nHere Frsn X\n\n\n4\n1yr\nStr\nHere Frsn X 280kg\n\n\n8\n1yr\nStr\nAngus Frsn X 300kg\n\n\n7\n1yr\nStr\nFriesian\n\n\n17\n1yr\nStr\nRed Devon X\n\n\n4\n1yr\nStr\nHere Frsn X\n\n\n2\n1yr\nBull\nHere Frsn X\n\n\n60\n1yr\nBull\nFriesian 220 to 300kg 3 lines\n\n\n20\n1yr\nBull\nFriesian\n\n\n14\n1yr\nBull\n3/4 Angus 1/4 Frsn (Aut Born) 400kg\n\n\n21\n1yr\nBull\n15mth Friesian Frsn X 350kg approx\n\n\n8\n1yr\nBull\nMurray Grey X\n\n\n8\n1yr\nBull\nHyland “De Horned”\n\n\n150\n1yr\nHfr\nHereford Friesian 260 to 320kg\n\n\n33\n1yr\nHfr\nAngus Friesian 330kg\n\n\n10\n1yr\nHfr\nHereford X\n\n\n9\n1yr\nHfr\nHere Frsn X\n\n\n6\n1yr\nHfr\nRed Devon X 285kg\n\n\n32\n1yr\nHfr\nMurray Grey Friesian X 280/300kg\n\n\n14\n1yr\nHfr\nHere Frsn X 320kg\n\n\n3\n1yr\nHfr\nHere Frsn X\n\n\n7\n1yr\nHfr\nHere Frsn X 270kg\n\n\n20\n1yr\nHfr\nHere Frsn X\n\n\n2\n1yr\nHfr\nHere Frsn X\n\n\n3\n1yr\nHfr\nRed Devon X\n\n\n2\n1yr\nHfr\nHere Frsn X\n\n\n3\n1yr\nHfr\nJersey\n\n\n12\n1yr\nMixed\nDairy X Steers & Heifers\n\n\n2\n1yr\nMixed\nDairy X Steers & Heifers\n\n\n10\nWnr\nStr\nAut Born Charolais 180/190kg\n\n\n12\nWnr\nStr\nAut Born Simmental 350kg\n\n\n25\nWnr\nStr\nAB Here Frsn Angus X 160kg weaned\n\n\n29\nWnr\nBull\nAut Born Here Galloway X\n\n\n30\nWnr\nBull\nAut Born Frsn & Aryshire X 250kg\n\n\n10\nWnr\nBull\nAut Born Frsn X 140kg\n\n\n9\nWnr\nHfr\nAut Born Charolais 180/190kg\n\n\n25\nWnr\nHfr\nAB Here Frsn Angus X 160kg weaned\n\n\n4\nWnr\nHfr\nFrsn Specklepark X\n\n\n42\nWnr\nHfr\nAut Here Frsn & Beef X 130 to 170kg\n\n\n15\nWnr\nHfr\nAut Born Here Galloway X\n\n\n2\nWnr\nMixed\nCalves\n\n\n10\nMixed\nCattle \nOdds & Sods\n\n\n880\n \n \n \n\n\n\nPhotos \nno images were found Taupo Saleyards is an accredited NAIT entity so we will scan and record the movement of your cattle. \nHowever\, all cattle must be NAIT tagged and all vendors must have their NAIT number. \nUntagged cattle will either be sent home or tagged with a saleyards approved NAIT tag at a maximum cost of $25 per head tagged. \nPlease note that all intending purchasers must be NAIT registered prior to the sale and must have a NAIT number when registering at the sale. \nWe are accredited providers and can assist by registering on your behalf for a small fee. \nASD forms HERE   Terms & Conditions HERE
URL:https://centrallivestock.co.nz/event/taupo-sale-19/
END:VEVENT
END:VCALENDAR