BEGIN:VCALENDAR
VERSION:2.0
PRODID:-//Central Livestock - ECPv6.15.20//NONSGML v1.0//EN
CALSCALE:GREGORIAN
METHOD:PUBLISH
X-WR-CALNAME:Central Livestock
X-ORIGINAL-URL:https://centrallivestock.co.nz
X-WR-CALDESC:Events for Central Livestock
REFRESH-INTERVAL;VALUE=DURATION:PT1H
X-Robots-Tag:noindex
X-PUBLISHED-TTL:PT1H
BEGIN:VTIMEZONE
TZID:Pacific/Auckland
BEGIN:STANDARD
TZOFFSETFROM:+1300
TZOFFSETTO:+1200
TZNAME:NZST
DTSTART:20160402T140000
END:STANDARD
BEGIN:DAYLIGHT
TZOFFSETFROM:+1200
TZOFFSETTO:+1300
TZNAME:NZDT
DTSTART:20160924T140000
END:DAYLIGHT
BEGIN:STANDARD
TZOFFSETFROM:+1300
TZOFFSETTO:+1200
TZNAME:NZST
DTSTART:20170401T140000
END:STANDARD
BEGIN:DAYLIGHT
TZOFFSETFROM:+1200
TZOFFSETTO:+1300
TZNAME:NZDT
DTSTART:20170923T140000
END:DAYLIGHT
BEGIN:STANDARD
TZOFFSETFROM:+1300
TZOFFSETTO:+1200
TZNAME:NZST
DTSTART:20180331T140000
END:STANDARD
BEGIN:DAYLIGHT
TZOFFSETFROM:+1200
TZOFFSETTO:+1300
TZNAME:NZDT
DTSTART:20180929T140000
END:DAYLIGHT
END:VTIMEZONE
BEGIN:VEVENT
DTSTART;TZID=Pacific/Auckland:20170323T120000
DTEND;TZID=Pacific/Auckland:20170323T120000
DTSTAMP:20260424T111404
CREATED:20170125T081459Z
LAST-MODIFIED:20170125T081459Z
UID:1031-1490270400-1490270400@centrallivestock.co.nz
SUMMARY:Taupo Sale - 490 Cattle
DESCRIPTION:490 Cattle \n15 Cows with Calves at foot\n22 R3 Year Friesian X Steers\n15 R3 Year Beef Heifers\n40 R2 Year Dairy Beef X Steers\n25 R2 Year Ang & Beef X Steers\n20 R2 Year Exotic X Steers\n20 R2 Year Friesian Bulls\n15 R2 Year Jersey Bulls\n33 R2 Year Ang & Ang X Heifers\n35 R2 Year Dairy Beef X Heifers\n35 R2 Empty Dairy Heifers\n25 Aut Born Dairy X Weaners\n40 Wnr Beef X Steers\n75 Wnr Friesian Bulls (Top Line)\n15 Wnr Beef X Heifers\n45 Wnr Friesian Here X Heifers \nSpecial Entry\nA/c Broad Acres North Limited\n75 Top Weaner Friesian Bulls – 180/200kg approx\n \nFor enquires and further entries please call 0800833834 \nTaupo Saleyards is an accredited NAIT entity so we will scan and record the movement of your cattle. \nHowever all cattle must be NAIT tagged and all vendors must have their NAIT number. \nUntagged cattle will either be sent home or tagged with a saleyards approved NAIT tag at a maxumum cost of $25 per head tagged. \nPlease note that all intending purchasers must be NAIT registered prior to the sale and must have a NAIT number when registering at the sale. \nWe are accredited providers and can assist by registering on your behalf for a small fee. \nASD forms HERE   Terms & Conditions HERE
URL:https://centrallivestock.co.nz/event/taupo-sale-2/
END:VEVENT
END:VCALENDAR