BEGIN:VCALENDAR
VERSION:2.0
PRODID:-//Central Livestock - ECPv6.15.20//NONSGML v1.0//EN
CALSCALE:GREGORIAN
METHOD:PUBLISH
X-WR-CALNAME:Central Livestock
X-ORIGINAL-URL:https://centrallivestock.co.nz
X-WR-CALDESC:Events for Central Livestock
REFRESH-INTERVAL;VALUE=DURATION:PT1H
X-Robots-Tag:noindex
X-PUBLISHED-TTL:PT1H
BEGIN:VTIMEZONE
TZID:Pacific/Auckland
BEGIN:STANDARD
TZOFFSETFROM:+1300
TZOFFSETTO:+1200
TZNAME:NZST
DTSTART:20190406T140000
END:STANDARD
BEGIN:DAYLIGHT
TZOFFSETFROM:+1200
TZOFFSETTO:+1300
TZNAME:NZDT
DTSTART:20190928T140000
END:DAYLIGHT
BEGIN:STANDARD
TZOFFSETFROM:+1300
TZOFFSETTO:+1200
TZNAME:NZST
DTSTART:20200404T140000
END:STANDARD
BEGIN:DAYLIGHT
TZOFFSETFROM:+1200
TZOFFSETTO:+1300
TZNAME:NZDT
DTSTART:20200926T140000
END:DAYLIGHT
BEGIN:STANDARD
TZOFFSETFROM:+1300
TZOFFSETTO:+1200
TZNAME:NZST
DTSTART:20210403T140000
END:STANDARD
BEGIN:DAYLIGHT
TZOFFSETFROM:+1200
TZOFFSETTO:+1300
TZNAME:NZDT
DTSTART:20210925T140000
END:DAYLIGHT
END:VTIMEZONE
BEGIN:VEVENT
DTSTART;TZID=Pacific/Auckland:20201203T120000
DTEND;TZID=Pacific/Auckland:20201203T120000
DTSTAMP:20260424T112303
CREATED:20191119T065206Z
LAST-MODIFIED:20191119T065206Z
UID:6516-1606996800-1606996800@centrallivestock.co.nz
SUMMARY:TAUPO SALE - 560 Cattle
DESCRIPTION:Entries to date:\n560 Cattle \n\n\n\n\n\n\n\n\nTally\nAge\nClass\nDescripton\nComments\n\n\n8\nM/A\nCow\nAng & Ang X\nWith Calves at Foot\n\n\n6\n2yr\nStr\nAngus X\n \n\n\n10\n2yr\nStr\nAng & Ang Here X\n500kg\n\n\n10\n2yr\nStr\nAyshire X\n500kg\n\n\n3\n2yr\nStr\nBeef X\n \n\n\n3\n2yr\nBull\nAngus\n450/500kg\n\n\n1\n2yr\nBull\nHereford\n600kg\n\n\n5\nR2\nStr\nHere Frsn X \nAut Born\n\n\n28\nR2\nStr\nHere Frsn X\n415kg Aut Born\n\n\n17\nR2\nBull\nDairy Beef X\nAut Born\n\n\n10\n1Yr\nStr\nSimmental X\n350kg\n\n\n53\n1Yr\nStr\nAng & Ang Here X\n260 to 340kg range\n\n\n10\n1Yr\nStr\nAngus\n200kg\n\n\n4\n1Yr\nStr\nHere Frsn X\nRed\n\n\n9\n1Yr\nStr\nAngus X\n \n\n\n8\n1Yr\nStr\nBeef X\n \n\n\n2\n1yr\nBull\nHereford\n \n\n\n5\n1Yr\nBull\nMurray Grey\nPure Bred\n\n\n20\n1Yr\nBull\nHere Frsn X\n300kg\n\n\n60\n1Yr\nHfr\nHere Frsn X \nMixed Colours 300 to 350kg\n\n\n10\n1Yr\nHfr\nAngus\n220kg\n\n\n23\n1Yr\nHfr\nAngus\n240/50kg\n\n\n5\n1Yr\nHfr\nAngus X\n \n\n\n5\n1Yr\nHfr\nHere Frsn X\n300kg plus\n\n\n28\n1Yr\nHfr\nAng & Ang Here X\n280/300kg\n\n\n12\n1Yr\nHfr\nHere Frsn X \n \n\n\n50\n1Yr\nHfr\nAngus Frsn X\n27 @ 310kg / 23 @ 280kg\n\n\n14\n1Yr\nHfr\nBeef X\n \n\n\n5\nWnr\nStr\nCharo X\n \n\n\n33\nWnr\nBull\nFriesian\n100kg Plus\n\n\n10\nWnr\nBull\nHere Frsn X\n100kg Plus\n\n\n12\nWnr\nStr\nAng Frsn X\n140 Kg\n\n\n25\nWnr\nBull\nAng Frsn X\n \n\n\n40\nWnr\nBull\nFriesian\n120kg\n\n\n10\nWnr\nHfr\nAng Frsn X\n150kg\n\n\n20\nWnr\nHfr\nBeef X\nAut Born\n\n\n4\nWnr \nHfr\nCharo X\n \n\n\n560\n \n \n \n \n\n\n\n  \nSpecial Entries \nA/c Whenuatupu Ohinemoa Station\n53 1yr Ang & Ang Here X Steers – 320 to 260kg range\n28 1yr Ang & Ang Here X Heifers – 280/300kg\n10 2yr Ang & Ang Here X Steers – 500kg \nA/c Opepe Farming Ltd\n28 Top 18mth Frsn Here X Steers 415kg Ave \nA/c Armer Farms\n50 1yr Ang Frsn X Heifers – 300kg \n\nEntries are currently being taken and will this page be continually updated \nTaupo Saleyards is an accredited NAIT entity so we will scan and record the movement of your cattle. \nHowever\, all cattle must be NAIT tagged and all vendors must have their NAIT number. \nUntagged cattle will either be sent home or tagged with a saleyards approved NAIT tag at a maximum cost of $25 per head tagged. \nPlease note that all intending purchasers must be NAIT registered prior to the sale and must have a NAIT number when registering at the sale. \nWe are accredited providers and can assist by registering on your behalf for a small fee. \nASD forms HERE   Terms & Conditions HERE
URL:https://centrallivestock.co.nz/event/taupo-sale-29/
END:VEVENT
END:VCALENDAR