BEGIN:VCALENDAR
VERSION:2.0
PRODID:-//Central Livestock - ECPv6.15.20//NONSGML v1.0//EN
CALSCALE:GREGORIAN
METHOD:PUBLISH
X-WR-CALNAME:Central Livestock
X-ORIGINAL-URL:https://centrallivestock.co.nz
X-WR-CALDESC:Events for Central Livestock
REFRESH-INTERVAL;VALUE=DURATION:PT1H
X-Robots-Tag:noindex
X-PUBLISHED-TTL:PT1H
BEGIN:VTIMEZONE
TZID:Pacific/Auckland
BEGIN:STANDARD
TZOFFSETFROM:+1300
TZOFFSETTO:+1200
TZNAME:NZST
DTSTART:20160402T140000
END:STANDARD
BEGIN:DAYLIGHT
TZOFFSETFROM:+1200
TZOFFSETTO:+1300
TZNAME:NZDT
DTSTART:20160924T140000
END:DAYLIGHT
BEGIN:STANDARD
TZOFFSETFROM:+1300
TZOFFSETTO:+1200
TZNAME:NZST
DTSTART:20170401T140000
END:STANDARD
BEGIN:DAYLIGHT
TZOFFSETFROM:+1200
TZOFFSETTO:+1300
TZNAME:NZDT
DTSTART:20170923T140000
END:DAYLIGHT
BEGIN:STANDARD
TZOFFSETFROM:+1300
TZOFFSETTO:+1200
TZNAME:NZST
DTSTART:20180331T140000
END:STANDARD
BEGIN:DAYLIGHT
TZOFFSETFROM:+1200
TZOFFSETTO:+1300
TZNAME:NZDT
DTSTART:20180929T140000
END:DAYLIGHT
END:VTIMEZONE
BEGIN:VEVENT
DTSTART;TZID=Pacific/Auckland:20170306T120000
DTEND;TZID=Pacific/Auckland:20170307T120000
DTSTAMP:20260424T112302
CREATED:20170125T081331Z
LAST-MODIFIED:20170125T081331Z
UID:1029-1488801600-1488888000@centrallivestock.co.nz
SUMMARY:Taupo Weaner Fair
DESCRIPTION:2025 Head \nMon 6th March & Tue 7th March \n12.00 Noon start\nBoth days \n470 Wnr Strs\n(Mon 6th Mar) \n60 Angus\n50 Simm & Simm X\n35 Simm Here X\n30 Here & Here X\n15 Charo X\n40 Limo X\n17 M Grey X\n20 Sth Dev X\n30 Beef Bred\n 70 Here Frsn X\n30 A/Born Here Frsn\n70 Ang Frsn X \n435 Wnr Hfrs\n(Mon 6th Mar) \n50 Angus\n55 Simm Here X\n20 Limo X\n20 Sth Dev X\n30 Here & Here X\n35 Beef Bred\n32 M Grey X\n12 AB Here Frsn X\n130 Here Friesian X\n50 Ang Friesian X \n1120 Wnr Bulls\n(Tues 7th Mar) \n920 Friesian\n13 Hereford\n10 Sth Dev X\n20 Beef\n135 Here Friesian X\n20 Ang Frsn X \nContact\nCentral Livestock\nPh 027 4956031\nCarrfields\nPh 027 4070562\nPGG Wrightson\nPh 027 4754895 \nFor enquires and further entries please call 0800833834 \nTaupo Saleyards is an accredited NAIT entity so we will scan and record the movement of your cattle. \nHowever all cattle must be NAIT tagged and all vendors must have their NAIT number. \nUntagged cattle will either be sent home or tagged with a saleyards approved NAIT tag at a maxumum cost of $25 per head tagged. \nPlease note that all intending purchasers must be NAIT registered prior to the sale and must have a NAIT number when registering at the sale. \nWe are accredited providers and can assist by registering on your behalf for a small fee. \nASD forms HERE   Terms & Conditions HERE
URL:https://centrallivestock.co.nz/event/taupo-weaner-fair/
END:VEVENT
END:VCALENDAR