BEGIN:VCALENDAR
VERSION:2.0
PRODID:-//Central Livestock - ECPv6.15.20//NONSGML v1.0//EN
CALSCALE:GREGORIAN
METHOD:PUBLISH
X-WR-CALNAME:Central Livestock
X-ORIGINAL-URL:https://centrallivestock.co.nz
X-WR-CALDESC:Events for Central Livestock
REFRESH-INTERVAL;VALUE=DURATION:PT1H
X-Robots-Tag:noindex
X-PUBLISHED-TTL:PT1H
BEGIN:VTIMEZONE
TZID:Pacific/Auckland
BEGIN:STANDARD
TZOFFSETFROM:+1300
TZOFFSETTO:+1200
TZNAME:NZST
DTSTART:20170401T140000
END:STANDARD
BEGIN:DAYLIGHT
TZOFFSETFROM:+1200
TZOFFSETTO:+1300
TZNAME:NZDT
DTSTART:20170923T140000
END:DAYLIGHT
BEGIN:STANDARD
TZOFFSETFROM:+1300
TZOFFSETTO:+1200
TZNAME:NZST
DTSTART:20180331T140000
END:STANDARD
BEGIN:DAYLIGHT
TZOFFSETFROM:+1200
TZOFFSETTO:+1300
TZNAME:NZDT
DTSTART:20180929T140000
END:DAYLIGHT
BEGIN:STANDARD
TZOFFSETFROM:+1300
TZOFFSETTO:+1200
TZNAME:NZST
DTSTART:20190406T140000
END:STANDARD
BEGIN:DAYLIGHT
TZOFFSETFROM:+1200
TZOFFSETTO:+1300
TZNAME:NZDT
DTSTART:20190928T140000
END:DAYLIGHT
END:VTIMEZONE
BEGIN:VEVENT
DTSTART;TZID=Pacific/Auckland:20180409T120000
DTEND;TZID=Pacific/Auckland:20180409T120000
DTSTAMP:20260424T203310
CREATED:20180112T084455Z
LAST-MODIFIED:20180112T084455Z
UID:5155-1523275200-1523275200@centrallivestock.co.nz
SUMMARY:Taupo Beef Weaner Fair - 1460 Head
DESCRIPTION:1460 Weaners \nComprising of \n568 Steers\n255 Angus\n50 Angus X\n25 Simm X\n40 Beef X\n10 Hereford\n8 Charolais\n180 Here Frsn X \n279 Bulls\n20 PB Simmental\n150 Pure Angus\n9 Shorthorn\n100 Friesian \n613 Heifers\n30 PB Simmental\n140 Pure Angus\n130 Angus X\n70 Simmental X\n40 Limousin X\n8 Charolais X\n35 Beef X\n10 Hereford\n150 Here Frsn X \nSpecial Entries: \nA/c Tuatahi Farming\n250 Angus & Angus X Steers\n100 Ang Here & Simm X Heifers\n Call Shane Scott 027 4956031 \nA/c MA & TL Newton\n150 Pure Angus Bulls \n50 Pure Angus Heifers\n Call Ross Waller 027 4845465 \nA/c Waione Land Company\n100 Angus & Ang Here X Heifers\nCall Mike Tosi 027 6763303 \nA/c Sally Chitty\n25 Simmental X Steers\n25 Simmental X Heifers \nA/c D & J Cotton\n40 Limousin X Heifers \n 
URL:https://centrallivestock.co.nz/event/taupo-beef-weaner-fair/
LOCATION:East Coast
END:VEVENT
END:VCALENDAR