BEGIN:VCALENDAR
VERSION:2.0
PRODID:-//Central Livestock - ECPv6.15.20//NONSGML v1.0//EN
CALSCALE:GREGORIAN
METHOD:PUBLISH
X-WR-CALNAME:Central Livestock
X-ORIGINAL-URL:https://centrallivestock.co.nz
X-WR-CALDESC:Events for Central Livestock
REFRESH-INTERVAL;VALUE=DURATION:PT1H
X-Robots-Tag:noindex
X-PUBLISHED-TTL:PT1H
BEGIN:VTIMEZONE
TZID:Pacific/Auckland
BEGIN:STANDARD
TZOFFSETFROM:+1300
TZOFFSETTO:+1200
TZNAME:NZST
DTSTART:20180331T140000
END:STANDARD
BEGIN:DAYLIGHT
TZOFFSETFROM:+1200
TZOFFSETTO:+1300
TZNAME:NZDT
DTSTART:20180929T140000
END:DAYLIGHT
BEGIN:STANDARD
TZOFFSETFROM:+1300
TZOFFSETTO:+1200
TZNAME:NZST
DTSTART:20190406T140000
END:STANDARD
BEGIN:DAYLIGHT
TZOFFSETFROM:+1200
TZOFFSETTO:+1300
TZNAME:NZDT
DTSTART:20190928T140000
END:DAYLIGHT
BEGIN:STANDARD
TZOFFSETFROM:+1300
TZOFFSETTO:+1200
TZNAME:NZST
DTSTART:20200404T140000
END:STANDARD
BEGIN:DAYLIGHT
TZOFFSETFROM:+1200
TZOFFSETTO:+1300
TZNAME:NZDT
DTSTART:20200926T140000
END:DAYLIGHT
END:VTIMEZONE
BEGIN:VEVENT
DTSTART;TZID=Pacific/Auckland:20190304T120000
DTEND;TZID=Pacific/Auckland:20190305T120000
DTSTAMP:20260424T230045
CREATED:20181120T071921Z
LAST-MODIFIED:20181120T071921Z
UID:5794-1551700800-1551787200@centrallivestock.co.nz
SUMMARY:TAUPO WEANER FAIR - 2350 Head over two days 4th & 5th March
DESCRIPTION:2350 HEAD \nOver Two Days \nMonday 4th March\n12 Noon \n500 Steers  \n30 Char Ang X \n40 Limo & Simm X\n25 Simm X \n45 Beef Bred \n50 Char Frsn X \n258 Here Frsn X \n50 Ang Frsn X \n734 Heifers \n30 Char Ang X \n10 Hereford \n50 Beef Bred \n65 Char Frsn X\n554 Here Frsn X\n25 Ang Frsn X \nTuesday 5th March\n12 Noon \n1117 Bulls \n27 Ang & Ang X \n35 Ang Frsn (AB)\n210 Here Frsn\n60 Ang Frsn\n30 Frsn (AB)\n755 Friesian \nSpecial Entry  \nA/c RA & RG Skiffington \n153 Top Weaner Friesian Bulls\n218kg Ave – Min of 190kg\nIncludes 8 Here Frsn X\n  \n  \nTaupo Saleyards is an accredited NAIT entity so we will scan and record the movement of your cattle. \nHowever\, all cattle must be NAIT tagged and all vendors must have their NAIT number. \nUntagged cattle will either be sent home or tagged with a saleyards approved NAIT tag at a maximum cost of $25 per head tagged. \nPlease note that all intending purchasers must be NAIT registered prior to the sale and must have a NAIT number when registering at the sale. \nWe are accredited providers and can assist by registering on your behalf for a small fee. \nASD forms HERE   Terms & Conditions HERE
URL:https://centrallivestock.co.nz/event/taupo-weaner-fair-2/
LOCATION:East Coast
END:VEVENT
END:VCALENDAR