BEGIN:VCALENDAR
VERSION:2.0
PRODID:-//Central Livestock - ECPv6.15.20//NONSGML v1.0//EN
CALSCALE:GREGORIAN
METHOD:PUBLISH
X-WR-CALNAME:Central Livestock
X-ORIGINAL-URL:https://centrallivestock.co.nz
X-WR-CALDESC:Events for Central Livestock
REFRESH-INTERVAL;VALUE=DURATION:PT1H
X-Robots-Tag:noindex
X-PUBLISHED-TTL:PT1H
BEGIN:VTIMEZONE
TZID:Pacific/Auckland
BEGIN:STANDARD
TZOFFSETFROM:+1300
TZOFFSETTO:+1200
TZNAME:NZST
DTSTART:20190406T140000
END:STANDARD
BEGIN:DAYLIGHT
TZOFFSETFROM:+1200
TZOFFSETTO:+1300
TZNAME:NZDT
DTSTART:20190928T140000
END:DAYLIGHT
BEGIN:STANDARD
TZOFFSETFROM:+1300
TZOFFSETTO:+1200
TZNAME:NZST
DTSTART:20200404T140000
END:STANDARD
BEGIN:DAYLIGHT
TZOFFSETFROM:+1200
TZOFFSETTO:+1300
TZNAME:NZDT
DTSTART:20200926T140000
END:DAYLIGHT
BEGIN:STANDARD
TZOFFSETFROM:+1300
TZOFFSETTO:+1200
TZNAME:NZST
DTSTART:20210403T140000
END:STANDARD
BEGIN:DAYLIGHT
TZOFFSETFROM:+1200
TZOFFSETTO:+1300
TZNAME:NZDT
DTSTART:20210925T140000
END:DAYLIGHT
END:VTIMEZONE
BEGIN:VEVENT
DTSTART;TZID=Pacific/Auckland:20200107T120000
DTEND;TZID=Pacific/Auckland:20200107T120000
DTSTAMP:20260424T123739
CREATED:20191119T061255Z
LAST-MODIFIED:20191119T061255Z
UID:6496-1578398400-1578398400@centrallivestock.co.nz
SUMMARY:Puketoro Station 4th Annual On Farm Sale - Tuesday 7th Jan 2020
DESCRIPTION:4th Annual On Farm Sale – Tuesday 7th Jan 2020\n12 Noon Start\n2754 Ihungia Road\, Tokomaru Bay at 12 Noon \n10550 Sheep / 1000 Steers \n7550 Ewes\nComprising of:\n2500 Romdale 2th Ewes \n1500 Coopdale 2th Ewes\n1200 Perendale 5yr Ewes\n850 Coopdale 5yr Ewes\n1000 Coopdale M/a Ewes\n500 M/a Perendale Ewes\nThe Puketoro Station bred Ewes docked 148% to the Ram and will be presented in very good condition. June Shorn – All mouthed & uddered.\nThe Coopdale Ewes are by eczema tolerant rams. \n3000 Romdale Crypto Lambs \nThe weights will range from 25 to 34kg approx. – Woolly \n100 2 Year Angus & Ang X Steers\nAngus Bloodlines include Whangara\, Kaharau\, Turihaua \n900 1 Year Angus Steers\nRanging from 350 to 440kg\nWill be drafted into weight ranges\nAngus Bloodlines include Whangara\, Kaharau\, Turihaua\nAll Angus steers carry an Angus Pure Tag \n\n\nThe Steers will be sold 30 minutes after the conclusion of the Sheep\nLunch & Light refreshments provided\nThe auction will be run under the terms & conditions of the NZ Stock & Station Agents Assn – GST Exclusive\nGrazing strictly limited to work in with trucking only – By Arrangement\nA 1.5% Rebate will be available to purchasing Agents by arrangement prior to the sale\n\nAuctioneers note \nMcNeil farming is proud to be able to offer buyers an outstanding line up of Ewes\, Lambs & Steers. On larger lines\, Sheep & Cattle will be offered in reasonably sized run-out or unit loads. The photos above were taken in early December.  Off the high country at the foot of Mount Hikurangi\, buyers can have confidence in the ability of stock from Puketoro Station to shift well. \nThose who travel to the sale will enjoy top-notch hospitality. \nDirections\n2754 Ihungia Road\, Tokomaru Bay\nPlease use the Ihungia from Tokomaru Bay as Logging trucks will be using the Mata Road\nPlease be aware of oncoming traffic and drive with Caution \nContact \nThe Auctioneer:  Shane Scott 0274956031 or email shane@centrallivestock.co.nz\nThe Vendor’s:  Burne Mc Neil 06 8638389 or Tennant Mc Neil 021864879 \n\n\n\n		\n				\n						\n			\n								\n			\n		\n							\n			\n				\n						\n			\n								\n			\n		\n							\n			\n				\n						\n			\n								\n			\n		\n							\n			\n				\n						\n			\n								\n			\n		\n							\n			\n				\n						\n			\n								\n			\n		\n							\n			\n				\n						\n			\n								\n			\n		\n							\n			\n				\n						\n			\n								\n			\n		\n							\n			\n				\n						\n			\n								\n			\n		\n							\n			\n				\n						\n			\n								\n			\n		\n							\n			\n				\n						\n			\n								\n			\n		\n							\n			\n				\n						\n			\n								\n			\n		\n							\n			\n				\n						\n			\n								\n			\n		\n							\n			\n				\n						\n			\n								\n			\n		\n							\n			\n				\n						\n			\n								\n			\n		\n							\n			\n				\n						\n			\n								\n			\n		\n							\n			\n				\n						\n			\n								\n			\n		\n							\n			\n				\n						\n			\n								\n			\n		\n							\n			\n				\n						\n			\n								\n			\n		\n							\n			\n				\n						\n			\n								\n			\n		\n							\n			\n				\n						\n			\n								\n			\n		\n							\n			\n	\n	\n\n		\n		[Show slideshow]\n\n	\n	\n		\n		1\n2\n►	\n\n  \nView updated information at:\nwww.centrallivestock .co.nz\nFacebook Central Livestock – Puketoro Sale
URL:https://centrallivestock.co.nz/event/puketoro-station-4th-annual-on-farm-sale-tuesday-7th-jan-2020/
LOCATION:East Coast
END:VEVENT
END:VCALENDAR