BEGIN:VCALENDAR
VERSION:2.0
PRODID:-//Central Livestock - ECPv6.15.20//NONSGML v1.0//EN
CALSCALE:GREGORIAN
METHOD:PUBLISH
X-ORIGINAL-URL:https://centrallivestock.co.nz
X-WR-CALDESC:Events for Central Livestock
REFRESH-INTERVAL;VALUE=DURATION:PT1H
X-Robots-Tag:noindex
X-PUBLISHED-TTL:PT1H
BEGIN:VTIMEZONE
TZID:Pacific/Auckland
BEGIN:STANDARD
TZOFFSETFROM:+1300
TZOFFSETTO:+1200
TZNAME:NZST
DTSTART:20200404T140000
END:STANDARD
BEGIN:DAYLIGHT
TZOFFSETFROM:+1200
TZOFFSETTO:+1300
TZNAME:NZDT
DTSTART:20200926T140000
END:DAYLIGHT
BEGIN:STANDARD
TZOFFSETFROM:+1300
TZOFFSETTO:+1200
TZNAME:NZST
DTSTART:20210403T140000
END:STANDARD
BEGIN:DAYLIGHT
TZOFFSETFROM:+1200
TZOFFSETTO:+1300
TZNAME:NZDT
DTSTART:20210925T140000
END:DAYLIGHT
BEGIN:STANDARD
TZOFFSETFROM:+1300
TZOFFSETTO:+1200
TZNAME:NZST
DTSTART:20220402T140000
END:STANDARD
BEGIN:DAYLIGHT
TZOFFSETFROM:+1200
TZOFFSETTO:+1300
TZNAME:NZDT
DTSTART:20220924T140000
END:DAYLIGHT
END:VTIMEZONE
BEGIN:VEVENT
DTSTART;TZID=Pacific/Auckland:20210412T120000
DTEND;TZID=Pacific/Auckland:20210412T170000
DTSTAMP:20260424T141108
CREATED:20201124T144411Z
LAST-MODIFIED:20201124T144411Z
UID:8043-1618228800-1618246800@centrallivestock.co.nz
SUMMARY:TAUPO BEEF WEANER FAIR - 12th April 2021 - 1500 Head
DESCRIPTION:TAUPO WEANER FAIR\nMonday 12th April \n12 Noon Start \n1500 Weaner Cattle \n545 Steers\n294 Angus\n20 Simmental X\n20 Charolais X\n18 Shorthorn\n106 Frsn Here X\n25 Frsn Charolais X\n30 Frsn Angus X\n20 Speckle Park X\n15 Frsn Devon X \n476 Bulls\n30 Speckle Park\n11 Shorthorn\n30 Frsn Here X\n405 Friesian \n451 Heifers\n179 Angus\n20 Simmental X\n27 Shorthorn\n7 Charolais X\n12 Speckle Park\n105 Frsn Here X\n63 Frsn Angus X \n20 Frsn Charolais X\n18 Frsn Devon X \nSpecial Entries:\na/c St George by the Sea \n150 Angus Steers & 100 Angus Heifers\nCentral Livestock\na/c Kaiapo Bay Ltd\n50 Angus Steers & 50 Angus Heifers\nPGG Wrightson\na/c Windley Family Trust\n50 Frsn Here X Steers\n20 Frsn Ang X Steers\n50 Frsn Here X Heifers\n20 Frsn Ang X Heifers\nCentral Livestock\na/c D Koster\n240 Friesian Bulls\n(170 @ 190kg) (70 @ 170kg) \nCentral Livestock \nAuctioneers\nCentral Livestock Ltd – 0274 956 031 – On Line Bidding Available see below\nPGG Wrightson Ltd – 0274 930 739\nCarrfields Ltd – 0211 748403 \nCentral Livestock Ltd will be offering the LIVE AUCTION Service\nFull Details Here \n  \nTaupo Saleyards is an accredited NAIT entity so we will scan and record the movement of your cattle. \nHowever\, all cattle must be NAIT tagged and all vendors must have their NAIT number. \nUntagged cattle will either be sent home or tagged with a saleyards approved NAIT tag at a maximum cost of $25 per head tagged. \nPlease note that all intending purchasers must be NAIT registered prior to the sale and must have a NAIT number when registering at the sale. \nWe are accredited providers and can assist by registering on your behalf for a small fee. \nASD forms HERE   Terms & Conditions HERE
URL:https://centrallivestock.co.nz/event/taupo-beef-weaner-fair-12th-april-2021/
LOCATION:East Coast
END:VEVENT
END:VCALENDAR