BEGIN:VCALENDAR
VERSION:2.0
PRODID:-//Central Livestock - ECPv6.15.20//NONSGML v1.0//EN
CALSCALE:GREGORIAN
METHOD:PUBLISH
X-WR-CALNAME:Central Livestock
X-ORIGINAL-URL:https://centrallivestock.co.nz
X-WR-CALDESC:Events for Central Livestock
REFRESH-INTERVAL;VALUE=DURATION:PT1H
X-Robots-Tag:noindex
X-PUBLISHED-TTL:PT1H
BEGIN:VTIMEZONE
TZID:Pacific/Auckland
BEGIN:STANDARD
TZOFFSETFROM:+1300
TZOFFSETTO:+1200
TZNAME:NZST
DTSTART:20240406T140000
END:STANDARD
BEGIN:DAYLIGHT
TZOFFSETFROM:+1200
TZOFFSETTO:+1300
TZNAME:NZDT
DTSTART:20240928T140000
END:DAYLIGHT
BEGIN:STANDARD
TZOFFSETFROM:+1300
TZOFFSETTO:+1200
TZNAME:NZST
DTSTART:20250405T140000
END:STANDARD
BEGIN:DAYLIGHT
TZOFFSETFROM:+1200
TZOFFSETTO:+1300
TZNAME:NZDT
DTSTART:20250927T140000
END:DAYLIGHT
BEGIN:STANDARD
TZOFFSETFROM:+1300
TZOFFSETTO:+1200
TZNAME:NZST
DTSTART:20260404T140000
END:STANDARD
BEGIN:DAYLIGHT
TZOFFSETFROM:+1200
TZOFFSETTO:+1300
TZNAME:NZDT
DTSTART:20260926T140000
END:DAYLIGHT
END:VTIMEZONE
BEGIN:VEVENT
DTSTART;TZID=Pacific/Auckland:20250519T120000
DTEND;TZID=Pacific/Auckland:20250519T120000
DTSTAMP:20260419T125154
CREATED:20250130T204703Z
LAST-MODIFIED:20250514T055817Z
UID:14814-1747656000-1747656000@centrallivestock.co.nz
SUMMARY:TAUPO Cow & Cattle Sale - 700 Head
DESCRIPTION:Entries to date: \n700 Head\n150 In Calf Beef X Cows\n105 Empty Frsn & Frsn X Cows\n30 R2 & 3yr Steers\n150 R2yr Beef X Bulls\n10 R2yr & R3yr Heifers\n25 R1yr Dairy Beef X Steers\n100 R1yr Dairy Beef X Bulls\n40 R1yr Charolais X Heifers\n90 R1yr Here Frsn & Beef X Heifers\n15 Assorted cattle \nSpecial Entries\nA/c Dakota Holdings Ltd – K & V Spicer\n(Capital Stock – Farm Sold)\n100 R4 to R9yr Hereford Frsn X Cows\nVIC to Charolais from 10th Nov\n26 R4 to R9yr Here Frsn & Beef X Cows\nVIC to Shorthorn from 10th Nov\n19 R3yr Charolais & Shorthorn X Steers 550kg\nA/c Whangaipeke Trust\n17 R6 & R7yr Hereford Frsn X Cows\nVic to Simmental  from 10th Jan\nFor further details call\nRoss Waller 027 4845465 \n  \n\nThe Taupo Cattle Sales are a Hybrid Livestream sale with bidr® – head to bidr.co.nz to watch and bid every sale.\nFor any bidr® queries or assistance\,\ncall 0800 TO BIDR (0800 86 2437) or email enquiries@bidr.co.nz \nTAUPO Saleyards Food Canteen\nPlease note that Food & Drink Purchases are CASH or by Banking app payment only  \nNAIT Requirements\nTaupo Saleyards is an accredited NAIT entity so we will scan and record the movement of your cattle.\nHowever\, all cattle must be NAIT tagged and all vendors must have their NAIT number.\nUntagged cattle will either be sent home or tagged with a saleyards approved NAIT tag at a maximum cost of $25 per head tagged.\nPlease note that all intending purchasers must be NAIT registered prior to the sale and must have a NAIT number when registering at the sale.\nWe are accredited NAIT providers and can assist by registering on your behalf for a small fee. \nASD forms HERE   Terms & Conditions HERE \n  \n 
URL:https://centrallivestock.co.nz/event/taupo-cattle-sale-17/
LOCATION:Taupo Saleyards\, 26/74 Oruanui Road\, Taupo\, 3384
ATTACH;FMTTYPE=image/jpeg:https://centrallivestock.co.nz/wp-content/uploads/2021/08/IMG_7611.jpeg
ORGANIZER;CN="Central Livestock Limited":MAILTO:shane@centrallivestock.co.nz
END:VEVENT
END:VCALENDAR