BEGIN:VCALENDAR
VERSION:2.0
PRODID:-//Central Livestock - ECPv6.15.20//NONSGML v1.0//EN
CALSCALE:GREGORIAN
METHOD:PUBLISH
X-WR-CALNAME:Central Livestock
X-ORIGINAL-URL:https://centrallivestock.co.nz
X-WR-CALDESC:Events for Central Livestock
REFRESH-INTERVAL;VALUE=DURATION:PT1H
X-Robots-Tag:noindex
X-PUBLISHED-TTL:PT1H
BEGIN:VTIMEZONE
TZID:UTC
BEGIN:STANDARD
TZOFFSETFROM:+0000
TZOFFSETTO:+0000
TZNAME:UTC
DTSTART:20240101T000000
END:STANDARD
END:VTIMEZONE
BEGIN:VEVENT
DTSTART;TZID=UTC:20250529T120000
DTEND;TZID=UTC:20250529T170000
DTSTAMP:20260419T124226
CREATED:20250514T061059Z
LAST-MODIFIED:20250525T195534Z
UID:15031-1748520000-1748538000@centrallivestock.co.nz
SUMMARY:PĀMU   Mangamingi   Angus Cow Herd Dispersal Sale
DESCRIPTION:To be held at the Taupo Saleyards – Thursday 29th May @ 12 Noon\nAngus Herd Dispersal Sale\n500 Capital Stock VIC Cows\nVIC to Mangatoa Angus & Waikite Simmental Bulls Bulled from 18th Dec 24 to the 10th Feb 25\nC10 TB Status / NZFAP / Vaccinated against Lepto and BVD annually\nA rare opportunity for those looking to buy a very well bred Angus cow\n– Off hill country\n– Great temperament\n– A calving span of just two cycles\n– Heifers are calved as 2yr old \n– The cows will be drafted into age groups R3yr – R4yr – R5yr – R6 & 7yr – R8yr\n– All lines will be sold over scales and will have been trucked in the day before  \nFor further details contact:\nShane Scott 027 4956031 \nThe auction is run under the terms & conditions of the NZ Stock & Station Agents Assn\nView a copy HERE \nA rebate commission to purchasing agents is available by arrangement\nHolding paddocks are available at the Saleyards for cattle that can not be trucked on the day \n\nThe Taupo Cattle Sales are a Hybrid Livestream sale with bidr® – head to bidr.co.nz to watch and bid every sale.\nFor any bidr® queries or assistance\,\ncall 0800 TO BIDR (0800 86 2437) or email enquiries@bidr.co.nz \nTAUPO Saleyards Food Canteen\nPlease note that Food & Drink Purchases are CASH or by Banking app payment only  \nLinks to Video’s below:\nMangamingi Capital Stock Cows 1 \nMangamingi Capital Stock Cows 2 \nMangamingi Capital Stock Cows 3 \nPhoto gallery below click or tap to enlarge
URL:https://centrallivestock.co.nz/event/pamu-mangamingi-farm-angus-cow-herd-dispersal-sale/
LOCATION:Taupo Saleyards\, 26/74 Oruanui Road\, Taupo\, 3384
ATTACH;FMTTYPE=image/jpeg:https://centrallivestock.co.nz/wp-content/uploads/2025/05/2V7A0708.jpeg
ORGANIZER;CN="Central Livestock Limited":MAILTO:shane@centrallivestock.co.nz
END:VEVENT
END:VCALENDAR