BEGIN:VCALENDAR
VERSION:2.0
PRODID:-//Central Livestock - ECPv6.15.20//NONSGML v1.0//EN
CALSCALE:GREGORIAN
METHOD:PUBLISH
X-ORIGINAL-URL:https://centrallivestock.co.nz
X-WR-CALDESC:Events for Central Livestock
REFRESH-INTERVAL;VALUE=DURATION:PT1H
X-Robots-Tag:noindex
X-PUBLISHED-TTL:PT1H
BEGIN:VTIMEZONE
TZID:Pacific/Auckland
BEGIN:STANDARD
TZOFFSETFROM:+1300
TZOFFSETTO:+1200
TZNAME:NZST
DTSTART:20240406T140000
END:STANDARD
BEGIN:DAYLIGHT
TZOFFSETFROM:+1200
TZOFFSETTO:+1300
TZNAME:NZDT
DTSTART:20240928T140000
END:DAYLIGHT
BEGIN:STANDARD
TZOFFSETFROM:+1300
TZOFFSETTO:+1200
TZNAME:NZST
DTSTART:20250405T140000
END:STANDARD
BEGIN:DAYLIGHT
TZOFFSETFROM:+1200
TZOFFSETTO:+1300
TZNAME:NZDT
DTSTART:20250927T140000
END:DAYLIGHT
BEGIN:STANDARD
TZOFFSETFROM:+1300
TZOFFSETTO:+1200
TZNAME:NZST
DTSTART:20260404T140000
END:STANDARD
BEGIN:DAYLIGHT
TZOFFSETFROM:+1200
TZOFFSETTO:+1300
TZNAME:NZDT
DTSTART:20260926T140000
END:DAYLIGHT
END:VTIMEZONE
BEGIN:VEVENT
DTSTART;TZID=Pacific/Auckland:20250818T120000
DTEND;TZID=Pacific/Auckland:20250818T120000
DTSTAMP:20260419T194307
CREATED:20250130T204910Z
LAST-MODIFIED:20250815T024448Z
UID:14839-1755518400-1755518400@centrallivestock.co.nz
SUMMARY:TAUPO Cattle Sale - 355 Head
DESCRIPTION:TAUPO CATTLE SALE\nMonday 18th August\n12 Noon Start\nEntries to date: \n355 Head\n25 Empty Friesian & Friesian X Cows\n3 Aged Angus & Charo X Sire Bulls\n15 R3yr Here Frsn X Heifers\n9 R2yr Shorthorn Charo x Steers 500kg\n20 R2yr Hereford Friesian X Steers\n24 R2yr Friesian Bulls 380 to 420kg\n40 R2yr Angus & Angus Exotic X Heifers 450kg\n10 R2yr Friesian & Frsn X Empty Heifers\n6 R1yr Simm Steers 270kg\n7 R1yr Here Frsn X Steers\n12 R1yr Hereford Bulls 230 to 250kg \n10 R1yr Angus Friesian X Bulls 300kg\n6 Simm R1yr Heifers 270kg\n18 R1yr Angus Here X Heifers\n15 R1yr Angus Heifers\n30 R1yr Frsn Charolais X Heifers\n30 Wnr Aut Born Charolais Friesian X Bulls 125kg\n45 Wnr Aut Born Charolais Friesian X Heifers 130kg\n25 Wnr Aut Born Hereford Friesian X Heifers 120kg\n5 Assorted Cattle \nSelling Companies:\nCentral Livestock 027 4956031\nPGG Wrightson 027 4720901 \n\nThe Taupo Cattle Sales are a Hybrid Livestream sale with bidr® – head to bidr.co.nz to watch and bid every sale.\nFor any bidr® queries or assistance\,\ncall 0800 TO BIDR (0800 86 2437) or email enquiries@bidr.co.nz \nNAIT Requirements\nTaupo Saleyards is an accredited NAIT entity so we will scan and record the movement of your cattle.\nHowever\, all cattle must be NAIT tagged and all vendors must have their NAIT number.\nUntagged cattle will either be sent home or tagged with a saleyards approved NAIT tag at a maximum cost of $25 per head tagged.\nPlease note that all intending purchasers must be NAIT registered prior to the sale and must have a NAIT number when registering at the sale.\nWe are accredited NAIT providers and can assist by registering on your behalf for a small fee. \nASD forms HERE   Terms & Conditions HERE \n  \n 
URL:https://centrallivestock.co.nz/event/taupo-cattle-sale-20/
LOCATION:Taupo Saleyards\, 26/74 Oruanui Road\, Taupo\, 3384
ATTACH;FMTTYPE=image/jpeg:https://centrallivestock.co.nz/wp-content/uploads/2021/08/IMG_7611.jpeg
ORGANIZER;CN="Central Livestock Limited":MAILTO:shane@centrallivestock.co.nz
END:VEVENT
END:VCALENDAR