BEGIN:VCALENDAR
VERSION:2.0
PRODID:-//Central Livestock - ECPv6.15.20//NONSGML v1.0//EN
CALSCALE:GREGORIAN
METHOD:PUBLISH
X-ORIGINAL-URL:https://centrallivestock.co.nz
X-WR-CALDESC:Events for Central Livestock
REFRESH-INTERVAL;VALUE=DURATION:PT1H
X-Robots-Tag:noindex
X-PUBLISHED-TTL:PT1H
BEGIN:VTIMEZONE
TZID:Pacific/Auckland
BEGIN:STANDARD
TZOFFSETFROM:+1300
TZOFFSETTO:+1200
TZNAME:NZST
DTSTART:20240406T140000
END:STANDARD
BEGIN:DAYLIGHT
TZOFFSETFROM:+1200
TZOFFSETTO:+1300
TZNAME:NZDT
DTSTART:20240928T140000
END:DAYLIGHT
BEGIN:STANDARD
TZOFFSETFROM:+1300
TZOFFSETTO:+1200
TZNAME:NZST
DTSTART:20250405T140000
END:STANDARD
BEGIN:DAYLIGHT
TZOFFSETFROM:+1200
TZOFFSETTO:+1300
TZNAME:NZDT
DTSTART:20250927T140000
END:DAYLIGHT
BEGIN:STANDARD
TZOFFSETFROM:+1300
TZOFFSETTO:+1200
TZNAME:NZST
DTSTART:20260404T140000
END:STANDARD
BEGIN:DAYLIGHT
TZOFFSETFROM:+1200
TZOFFSETTO:+1300
TZNAME:NZDT
DTSTART:20260926T140000
END:DAYLIGHT
END:VTIMEZONE
BEGIN:VEVENT
DTSTART;TZID=Pacific/Auckland:20250915T120000
DTEND;TZID=Pacific/Auckland:20250915T120000
DTSTAMP:20260419T232521
CREATED:20250130T204946Z
LAST-MODIFIED:20250910T212821Z
UID:14843-1757937600-1757937600@centrallivestock.co.nz
SUMMARY:TAUPO Cattle Sale
DESCRIPTION:Taupo Cattle Sale\nMonday 15th September\nEntries to date \n390 Head\n20 Empty Cows\n3 Aged Sire Bulls\n32 2yr Here Friesian X Steers\n50 2yr Friesian Steers 480 kg approx\n3 2yr Angus Steers\n3 2yr Hereford Bulls\n20 R3 & R2yr Angus Heifers\n30 1yr Angus & Angus Here X Steers\n12 1yr Jersey Bulls\n21 1yr Here Frsn X Heifers\n5 R1yr Angus Steers\n20 R1yr Charo Frsn X Heifers\n40 R1yr Here Frsn X Heifers\n5 R1yr Angus Heifers\n20 R1yr Aut Born Dairy X Bulls\n15 R1yr Aut Born Dairy X Heifers\n20 AB Wnr Charo Frsn X Bulls\n40 AB Wnr Friesian Bulls\n30 AB Wnr Charo Frsn X Heifers \nSpecial Entries:\nG & S Morris\n30 1yr Angus & Angus Here X Steers \nTe Arai Point Properties\n50 2yr Friesian Steers 480kg \nSelling companies:\nCentral Livestock 027 4956031\nPGG Wrightson 027 4720901\nCarrfields Livestock 021 1748403\n \n\nThe Taupo Cattle Sales are a Hybrid Livestream sale with bidr® – head to bidr.co.nz to watch and bid every sale.\nFor any bidr® queries or assistance\,\ncall 0800 TO BIDR (0800 86 2437) or email enquiries@bidr.co.nz \nTAUPO Saleyards Food Canteen\nPlease note that Food & Drink Purchases are CASH or by Banking app payment only  \nNAIT Requirements\nTaupo Saleyards is an accredited NAIT entity so we will scan and record the movement of your cattle.\nHowever\, all cattle must be NAIT tagged and all vendors must have their NAIT number.\nUntagged cattle will either be sent home or tagged with a saleyards approved NAIT tag at a maximum cost of $25 per head tagged.\nPlease note that all intending purchasers must be NAIT registered prior to the sale and must have a NAIT number when registering at the sale.\nWe are accredited NAIT providers and can assist by registering on your behalf for a small fee. \nNEW ASD Form – MPI have released an updated ASD form – It is a requirement to use the updated form – See the download link below\nASD forms HERE   Terms & Conditions HERE\n 
URL:https://centrallivestock.co.nz/event/taupo-cattle-sale-21/
LOCATION:Taupo Saleyards\, 26/74 Oruanui Road\, Taupo\, 3384
ATTACH;FMTTYPE=image/jpeg:https://centrallivestock.co.nz/wp-content/uploads/2021/08/IMG_7611.jpeg
ORGANIZER;CN="Central Livestock Limited":MAILTO:shane@centrallivestock.co.nz
END:VEVENT
END:VCALENDAR