BEGIN:VCALENDAR
VERSION:2.0
PRODID:-//Central Livestock - ECPv6.15.20//NONSGML v1.0//EN
CALSCALE:GREGORIAN
METHOD:PUBLISH
X-WR-CALNAME:Central Livestock
X-ORIGINAL-URL:https://centrallivestock.co.nz
X-WR-CALDESC:Events for Central Livestock
REFRESH-INTERVAL;VALUE=DURATION:PT1H
X-Robots-Tag:noindex
X-PUBLISHED-TTL:PT1H
BEGIN:VTIMEZONE
TZID:Pacific/Auckland
BEGIN:STANDARD
TZOFFSETFROM:+1300
TZOFFSETTO:+1200
TZNAME:NZST
DTSTART:20240406T140000
END:STANDARD
BEGIN:DAYLIGHT
TZOFFSETFROM:+1200
TZOFFSETTO:+1300
TZNAME:NZDT
DTSTART:20240928T140000
END:DAYLIGHT
BEGIN:STANDARD
TZOFFSETFROM:+1300
TZOFFSETTO:+1200
TZNAME:NZST
DTSTART:20250405T140000
END:STANDARD
BEGIN:DAYLIGHT
TZOFFSETFROM:+1200
TZOFFSETTO:+1300
TZNAME:NZDT
DTSTART:20250927T140000
END:DAYLIGHT
BEGIN:STANDARD
TZOFFSETFROM:+1300
TZOFFSETTO:+1200
TZNAME:NZST
DTSTART:20260404T140000
END:STANDARD
BEGIN:DAYLIGHT
TZOFFSETFROM:+1200
TZOFFSETTO:+1300
TZNAME:NZDT
DTSTART:20260926T140000
END:DAYLIGHT
END:VTIMEZONE
BEGIN:VEVENT
DTSTART;TZID=Pacific/Auckland:20251020T120000
DTEND;TZID=Pacific/Auckland:20251020T120000
DTSTAMP:20260420T055100
CREATED:20250130T205016Z
LAST-MODIFIED:20251017T183545Z
UID:14840-1760961600-1760961600@centrallivestock.co.nz
SUMMARY:TAUPO Cattle Sale
DESCRIPTION:Taupo Cattle Sale\nMonday 20th October \n12 noon Start\nEntries to date\n720 Head\n52 Cows\n– 52 Empty Friesian & Friesian X\n199 2yr Steers\n– 15 Angus & Angus X (500kg)\n– 50 Dairy Beef X (520kg)\n– 76 Friesian (500kg)\n– 38 Here Frsn X (4 to 450kg)\n– 20 Dairy Beef X\n12 2yr Heifers\n– 6 Mt Frsn & Frsn X\n– 6 Charolais x\n172 1yr Steers\n– 30 Angus & Angus Here X\n– 50 Charo Frsn X\n– 55 Here Frsn X\n– 9 Hereford\n– 6 Red Devon X\n– 22 Beef X\n38 1yr Bulls & Rigs\n– 3 Angus\n– 15 Hereford Frsn X\n– 20 Friesian\n198 1yr Heifers\n– 165 Here Frsn X\n– 23 Charo Frsn X\n– 10 Beef X\n40 Weaner Bulls\n– 40 Friesian\n10 Odds\n– 10 Assorted Cattle \nSpecial Entries\nA/c Harakeke Company Ltd\n140 1yr Here Frsn X Heifers (300/320kg Ave)\nHome bred\nA/c Te Arai Point Properties\n76 2yr Friesian Steers (500kg)\nA/c Truro Farm\n30 1yr Here & Ang Frsn X Steers \nSelling Companies\nCentral Livestock – Ph 027 4956031\nPGG Wrightson – Ph 027 4720901\nCarrfields – Ph 021 1748403 \n\n\nThe Taupo Cattle Sales are a Hybrid Livestream sale with bidr® – head to bidr.co.nz to watch and bid every sale.\nFor any bidr® queries or assistance\,\ncall 0800 TO BIDR (0800 86 2437) or email enquiries@bidr.co.nz \nTAUPO Saleyards Food Canteen\nPlease note that Food & Drink Purchases are CASH or by Banking app payment only  \nNAIT Requirements\nTaupo Saleyards is an accredited NAIT entity so we will scan and record the movement of your cattle.\nHowever\, all cattle must be NAIT tagged and all vendors must have their NAIT number.\nUntagged cattle will either be sent home or tagged with a saleyards approved NAIT tag at a maximum cost of $25 per head tagged.\nPlease note that all intending purchasers must be NAIT registered prior to the sale and must have a NAIT number when registering at the sale.\nWe are accredited NAIT providers and can assist by registering on your behalf for a small fee. \nNEW ASD Form – MPI have released an updated ASD form – It is a requirement to use the updated form – See the download link below\nASD forms HERE   Terms & Conditions HERE\n  \n  \n 
URL:https://centrallivestock.co.nz/event/taupo-cattle-sale-22/
LOCATION:Taupo Saleyards\, 26/74 Oruanui Road\, Taupo\, 3384
ATTACH;FMTTYPE=image/jpeg:https://centrallivestock.co.nz/wp-content/uploads/2021/08/IMG_7611.jpeg
ORGANIZER;CN="Central Livestock Limited":MAILTO:shane@centrallivestock.co.nz
END:VEVENT
END:VCALENDAR