BEGIN:VCALENDAR
VERSION:2.0
PRODID:-//Central Livestock - ECPv6.15.20//NONSGML v1.0//EN
CALSCALE:GREGORIAN
METHOD:PUBLISH
X-ORIGINAL-URL:https://centrallivestock.co.nz
X-WR-CALDESC:Events for Central Livestock
REFRESH-INTERVAL;VALUE=DURATION:PT1H
X-Robots-Tag:noindex
X-PUBLISHED-TTL:PT1H
BEGIN:VTIMEZONE
TZID:UTC
BEGIN:STANDARD
TZOFFSETFROM:+0000
TZOFFSETTO:+0000
TZNAME:UTC
DTSTART:20240101T000000
END:STANDARD
END:VTIMEZONE
BEGIN:VEVENT
DTSTART;TZID=UTC:20251103T120000
DTEND;TZID=UTC:20251103T120000
DTSTAMP:20260420T055125
CREATED:20250729T025045Z
LAST-MODIFIED:20251031T183530Z
UID:15155-1762171200-1762171200@centrallivestock.co.nz
SUMMARY:Pauariki Station 1st Annual on Farm 15mth Steer Sale
DESCRIPTION:Pauariki Station (Mc Neil Farming Ltd)\nLocated just 9kms inland on the Mata road from Tokomaru Bay (Signposted)\nWill be holding their 1st Annual “On Farm” 15 Month Steer Sale \nMonday the 3rd November – 12 Noon Start\n800 15 Mth Angus & Angus X Steers\n400 Bred on Farm (Pauariki Station)\n300 Bred on Manga Station (Mc Neil Farming)\n100 Bred on Maraehara Farms (Mc Neil Farming) \nThey have been weight ranged into the following lines: \n187 – Angus 400kg + (Ave of approx 430kg)\n247 – Angus 370 to 400kg\n180 – Angus 340 to 370kg\n62 – Angus Here X & Coloured 320 to 400kg (To be drafted 2 lines)\n113 – Angus 300 to 340kg\n50 – Angus Rigs\nThe steers will be sample weighed the morning of the sale with a 4% deduction to be made. \nC10 Status – NZFAP & GAP accredited\nThe Angus will carry Angus Pure Tags\nTop quality steers renowned for their temperament and shifting ability\nThey have cleaned up in the coat and are on the move\nThey will be sold in their weight ranges with the option of run outs \nA 1.5% Rebate will be available to purchasing agents by application\nThose in attendance will enjoy “East Coast Hospitality” on the day \nFor further information contact:\nShane Scott \n027 4956031\nshane@centrallivestock.co.nz \n\nThe Pauariki On Farm Cattle Sale is a Hybrid Livestream sale with bidr® – head to bidr.co.nz to watch and bid every sale.\nFor any bidr® queries or assistance\,\ncall 0800 TO BIDR (0800 86 2437) or email enquiries@bidr.co.nz \nMedia\nPDF Sale Flyer \nVideos\nSteers at Pauariki Station 7th October\nSteers at Manga Station 8th October \n\n	\n\n	\n					\n								\n	\n\n\n			\n						\n								\n	\n\n\n			\n						\n								\n	\n\n\n			\n						\n								\n	\n\n\n			\n						\n								\n	\n\n\n			\n						\n								\n	\n\n\n			\n						\n								\n	\n\n\n			\n				\n\n\n  \n 
URL:https://centrallivestock.co.nz/event/the-pauariki-station-1st-annual-on-farm-15mth-steer-sale/
LOCATION:Pauariki Station\, Pauariki Road\, Tokomaru Bay\, East Coast\, 4079\, New Zealand
ATTACH;FMTTYPE=image/jpeg:https://centrallivestock.co.nz/wp-content/uploads/2025/07/IMG_5819-scaled.jpg
ORGANIZER;CN="Central Livestock Limited":MAILTO:shane@centrallivestock.co.nz
END:VEVENT
END:VCALENDAR