BEGIN:VCALENDAR
VERSION:2.0
PRODID:-//Central Livestock - ECPv6.15.20//NONSGML v1.0//EN
CALSCALE:GREGORIAN
METHOD:PUBLISH
X-ORIGINAL-URL:https://centrallivestock.co.nz
X-WR-CALDESC:Events for Central Livestock
REFRESH-INTERVAL;VALUE=DURATION:PT1H
X-Robots-Tag:noindex
X-PUBLISHED-TTL:PT1H
BEGIN:VTIMEZONE
TZID:Pacific/Auckland
BEGIN:STANDARD
TZOFFSETFROM:+1300
TZOFFSETTO:+1200
TZNAME:NZST
DTSTART:20240406T140000
END:STANDARD
BEGIN:DAYLIGHT
TZOFFSETFROM:+1200
TZOFFSETTO:+1300
TZNAME:NZDT
DTSTART:20240928T140000
END:DAYLIGHT
BEGIN:STANDARD
TZOFFSETFROM:+1300
TZOFFSETTO:+1200
TZNAME:NZST
DTSTART:20250405T140000
END:STANDARD
BEGIN:DAYLIGHT
TZOFFSETFROM:+1200
TZOFFSETTO:+1300
TZNAME:NZDT
DTSTART:20250927T140000
END:DAYLIGHT
BEGIN:STANDARD
TZOFFSETFROM:+1300
TZOFFSETTO:+1200
TZNAME:NZST
DTSTART:20260404T140000
END:STANDARD
BEGIN:DAYLIGHT
TZOFFSETFROM:+1200
TZOFFSETTO:+1300
TZNAME:NZDT
DTSTART:20260926T140000
END:DAYLIGHT
END:VTIMEZONE
BEGIN:VEVENT
DTSTART;TZID=Pacific/Auckland:20251124T120000
DTEND;TZID=Pacific/Auckland:20251124T120000
DTSTAMP:20260420T053726
CREATED:20251029T183412Z
LAST-MODIFIED:20251123T070017Z
UID:15439-1763985600-1763985600@centrallivestock.co.nz
SUMMARY:TAUPO Cattle Sale
DESCRIPTION:Taupo Cattle Sale \nMonday 24th November\n12 Noon \n453 HEAD\n30 2yr Angus Steers \n10 2yr Charolais X Heifers\n20 15mth Dairy Beef X Steers\n33 15mth Charolais & Here Frsn X Heifers\n65 Wnr Here Frsn X Strs\n10 Wnr Charo Frsn X Steers\n30 Wnr Here Frsn X Bulls\n40 Wnr Charolais Frsn X Bulls\n120 Wnr Friesian Bulls\n35 Wnr Charolais Frsn X Heifers\n60 Wnr Here Frsn X Hfrs \nFurther entries are still being taken \nSelling Companies: \nCentral Livestock – Ph 027 4956031\nPGG Wrightson – Ph 027 4720901\nCarrfields – Ph 021 1748403\n\n\nThe Taupo Cattle Sales are a Hybrid Livestream sale with bidr® – head to bidr.co.nz to watch and bid every sale.\nFor any bidr® queries or assistance\,\ncall 0800 TO BIDR (0800 86 2437) or email enquiries@bidr.co.nz \nTAUPO Saleyards Food Canteen\nPlease note that Food & Drink Purchases are CASH or by Banking app payment only  \nNAIT Requirements\nTaupo Saleyards is an accredited NAIT entity so we will scan and record the movement of your cattle.\nHowever\, all cattle must be NAIT tagged and all vendors must have their NAIT number.\nUntagged cattle will either be sent home or tagged with a saleyards approved NAIT tag at a maximum cost of $25 per head tagged.\nPlease note that all intending purchasers must be NAIT registered prior to the sale and must have a NAIT number when registering at the sale.\nWe are accredited NAIT providers and can assist by registering on your behalf for a small fee. \nNEW ASD Form – MPI have released an updated ASD form – It is a requirement to use the updated form – See the download link below\nASD forms HERE   Terms & Conditions HERE\n  \n 
URL:https://centrallivestock.co.nz/event/taupo-cattle-sale-39/
LOCATION:Taupo Saleyards\, 26/74 Oruanui Road\, Taupo\, 3384
ATTACH;FMTTYPE=image/jpeg:https://centrallivestock.co.nz/wp-content/uploads/2021/08/IMG_7611.jpeg
ORGANIZER;CN="Central Livestock Limited":MAILTO:shane@centrallivestock.co.nz
END:VEVENT
END:VCALENDAR