BEGIN:VCALENDAR
VERSION:2.0
PRODID:-//Central Livestock - ECPv6.15.20//NONSGML v1.0//EN
CALSCALE:GREGORIAN
METHOD:PUBLISH
X-WR-CALNAME:Central Livestock
X-ORIGINAL-URL:https://centrallivestock.co.nz
X-WR-CALDESC:Events for Central Livestock
REFRESH-INTERVAL;VALUE=DURATION:PT1H
X-Robots-Tag:noindex
X-PUBLISHED-TTL:PT1H
BEGIN:VTIMEZONE
TZID:Pacific/Auckland
BEGIN:STANDARD
TZOFFSETFROM:+1300
TZOFFSETTO:+1200
TZNAME:NZST
DTSTART:20250405T140000
END:STANDARD
BEGIN:DAYLIGHT
TZOFFSETFROM:+1200
TZOFFSETTO:+1300
TZNAME:NZDT
DTSTART:20250927T140000
END:DAYLIGHT
BEGIN:STANDARD
TZOFFSETFROM:+1300
TZOFFSETTO:+1200
TZNAME:NZST
DTSTART:20260404T140000
END:STANDARD
BEGIN:DAYLIGHT
TZOFFSETFROM:+1200
TZOFFSETTO:+1300
TZNAME:NZDT
DTSTART:20260926T140000
END:DAYLIGHT
BEGIN:STANDARD
TZOFFSETFROM:+1300
TZOFFSETTO:+1200
TZNAME:NZST
DTSTART:20270403T140000
END:STANDARD
BEGIN:DAYLIGHT
TZOFFSETFROM:+1200
TZOFFSETTO:+1300
TZNAME:NZDT
DTSTART:20270925T140000
END:DAYLIGHT
END:VTIMEZONE
BEGIN:VEVENT
DTSTART;TZID=Pacific/Auckland:20260107T120000
DTEND;TZID=Pacific/Auckland:20260107T170000
DTSTAMP:20260422T082836
CREATED:20250805T081606Z
LAST-MODIFIED:20260329T021602Z
UID:15176-1767787200-1767805200@centrallivestock.co.nz
SUMMARY:Puketoro Station 10th Annual On Farm Sale - Wednesday 7th January 2026
DESCRIPTION:Puketoro Station 10th Annual On Farm Sale\nWednesday 7th January 2026\n12 Noon Start\n2754 Ihungia Road\, Tokomaru Bay at 12 Noon\n7300 Sheep & 1160 Cattle\nA/c McNeil Farming – Puketoro\n2000 2th Romdale Ewes / 2500 5yr Romdale Ewes\nA/c McNeil Farming – Tuakau (Capital Stock Coopdale Ewes)\n800 2th Ewes / 600 4th Ewes / 400 6th Ewes / 200 4Year Ewes\nA/c McNeil Farming\n800 2th Coopdale Ewes \nAll  Ewes GAP & NZFAP Accredited \n960 – 15 Month Angus Steers\nWeight ranged from 430 to 350 kgs \n200 – 15 Month Angus Heifers\nWeight ranged from 350 to 280 kgs \nAngus Bloodlines include Turihaua\, Ngaputahu\, Totaranui & Seven Hills\nGAP & NZFAP Accredited – AB Free  \n\n\nThe Cattle will be sold 30 minutes after the conclusion of the Sheep\nLunch & Light refreshments provided\nThe auction will be run under the terms & conditions of the NZ Stock & Station Agents Assn – GST Exclusive\nGrazing is limited\, to work in with trucking only – By Arrangement\nA 1.5% Rebate will be available to Agents who purchase\, by arrangement before the sale\n \nOnline bidding will be available on the day through Bidr – Simply register and charge through your account with Central Livestock or your respective Company\n\n\nAuctioneers note \nMcNeil Farming is proud to be able to offer buyers an outstanding lineup of Ewes\, Steers and Heifers\nOn larger lines\, Sheep & Cattle will be offered in reasonably sized run-out or unit loads.\nOff the high country at the foot of Mount Hikurangi\, buyers can have confidence in the ability of stock from Puketoro Station to shift well. \nThose who travel to the sale will enjoy top-notch hospitality. \nDirections\n2754 Ihungia Road\, Tokomaru Bay\nPlease use the Ihungia Road (Sign Posted) from Tokomaru Bay as trucks could be using the Mata Road\nPlease be aware of oncoming traffic and drive with Caution \nThinking of flying – There is a fully metalled strip on the farm\nOr give us some notice and we can pick you up from the Ruatoria Airport  \nContact \nThe Auctioneer:  Shane Scott 0274956031 or email shane@centrallivestock.co.nz \nView Photos & Videos of lines on offer below\nVideo links below:\nA cut of the 390 to 420kg 15mth Steers \n4 Tooth Coopdale Cap Stock Ewes \n6 Tooth Coopdale Cap Stock Ewes \n4 Year Coopdale Cap Stock Ewes
URL:https://centrallivestock.co.nz/event/puketoro-station-10th-annual-on-farm-sale-wednesday-7th-january-2026/
LOCATION:Puketoro Station\, 2754 Ihungia Road\, Tokomaru Bay\, East Coast\, 4079\, New Zealand
ATTACH;FMTTYPE=image/jpeg:https://centrallivestock.co.nz/wp-content/uploads/2025/08/IMG_6181-scaled.jpeg
ORGANIZER;CN="Central Livestock Limited":MAILTO:shane@centrallivestock.co.nz
END:VEVENT
END:VCALENDAR