BEGIN:VCALENDAR
VERSION:2.0
PRODID:-//Central Livestock - ECPv6.15.20//NONSGML v1.0//EN
CALSCALE:GREGORIAN
METHOD:PUBLISH
X-WR-CALNAME:Central Livestock
X-ORIGINAL-URL:https://centrallivestock.co.nz
X-WR-CALDESC:Events for Central Livestock
REFRESH-INTERVAL;VALUE=DURATION:PT1H
X-Robots-Tag:noindex
X-PUBLISHED-TTL:PT1H
BEGIN:VTIMEZONE
TZID:Pacific/Auckland
BEGIN:STANDARD
TZOFFSETFROM:+1300
TZOFFSETTO:+1200
TZNAME:NZST
DTSTART:20250405T140000
END:STANDARD
BEGIN:DAYLIGHT
TZOFFSETFROM:+1200
TZOFFSETTO:+1300
TZNAME:NZDT
DTSTART:20250927T140000
END:DAYLIGHT
BEGIN:STANDARD
TZOFFSETFROM:+1300
TZOFFSETTO:+1200
TZNAME:NZST
DTSTART:20260404T140000
END:STANDARD
BEGIN:DAYLIGHT
TZOFFSETFROM:+1200
TZOFFSETTO:+1300
TZNAME:NZDT
DTSTART:20260926T140000
END:DAYLIGHT
BEGIN:STANDARD
TZOFFSETFROM:+1300
TZOFFSETTO:+1200
TZNAME:NZST
DTSTART:20270403T140000
END:STANDARD
BEGIN:DAYLIGHT
TZOFFSETFROM:+1200
TZOFFSETTO:+1300
TZNAME:NZDT
DTSTART:20270925T140000
END:DAYLIGHT
END:VTIMEZONE
BEGIN:VEVENT
DTSTART;TZID=Pacific/Auckland:20260209T120000
DTEND;TZID=Pacific/Auckland:20260209T120000
DTSTAMP:20260419T154944
CREATED:20250828T020636Z
LAST-MODIFIED:20260205T060233Z
UID:15283-1770638400-1770638400@centrallivestock.co.nz
SUMMARY:TAUPO Cattle Sale - 535 Head
DESCRIPTION:TAUPO Cattle Sale\nMonday 9th February\n12 Noon\nEntries to date: \n535 Head\n14 8yr Angus Cows & Calves (14 Bull & 4 Hfr)\n2 Cows & Calves\n6 Beef Cows\n2 Beef Bulls\n2 Prime Dairy Heifers\n16 2yr (Aut Born) Jersey Bulls 480kg\n20 18mth Pure Bred Hereford Bulls\n4 18mth Angus Bulls\n4 18mth Jersey Bulls\n8 15mth Beef X Bulls\n9 15mth Dairy X Steers\n8 15mth Charolais X Heifers 380kg\n14 18mth Angus Heifers\n44 R1yr (Aut Born) Here Frsn X Steers 220kg\n60 Wnr Charolais Frsn X Steers 160kg\n10 Wnr Angus X Bulls 180kg\n4 Wnr Murray Grey X Bulls 220kg\n30 Wnr Here Frsn X Bulls\n126 Wnr Friesian Bulls\n12 Wnr Jersey Bulls\n14 R1yr (Aut Born) Here Frsn X Heifers 190kg\n64 Wnr Charolais X Heifers 160kg\n62 Wnr Here Frsn X Heifers \nSpecial Entries\nA/c K & S Rooney\n44 Top Aut Born R1yr Here Frsn X Steers 250/260kg\n13 Top Aut Born R1yr Here Frsn X Steers 220kg \nA/c Duck Pond Bend Farms\n60 Weaner Charolais X Steers 160kg\n60 Weaner Cahrolais X Heifers 160kg \nSelling Companies:\nCentral Livestock – Ph 027 4956031\nPGG Wrightson – Ph 027 4720901\nCarrfields – Ph 021 1748403 \n\n\nThe Taupo Cattle Sales are a Hybrid Livestream sale with bidr® – head to bidr.co.nz to watch and bid every sale.\nFor any bidr® queries or assistance\,\ncall 0800 TO BIDR (0800 86 2437) or email enquiries@bidr.co.nz \nTAUPO Saleyards Food Canteen\nPlease note that Food & Drink Purchases are CASH or by Banking app payment only  \nNAIT Requirements\nTaupo Saleyards is an accredited NAIT entity so we will scan and record the movement of your cattle.\nHowever\, all cattle must be NAIT tagged and all vendors must have their NAIT number.\nUntagged cattle will either be sent home or tagged with a saleyards approved NAIT tag at a maximum cost of $25 per head tagged.\nPlease note that all intending purchasers must be NAIT registered prior to the sale and must have a NAIT number when registering at the sale.\nWe are accredited NAIT providers and can assist by registering on your behalf for a small fee. \nNEW ASD Form – MPI have released an updated ASD form – It is a requirement to use the updated form – See the download link below\nASD forms HERE   Terms & Conditions HERE\n 
URL:https://centrallivestock.co.nz/event/taupo-cattle-sale-27/
LOCATION:Taupo Saleyards\, 26/74 Oruanui Road\, Taupo\, 3384
ATTACH;FMTTYPE=image/jpeg:https://centrallivestock.co.nz/wp-content/uploads/2021/08/IMG_7611.jpeg
ORGANIZER;CN="Central Livestock Limited":MAILTO:shane@centrallivestock.co.nz
END:VEVENT
END:VCALENDAR