BEGIN:VCALENDAR
VERSION:2.0
PRODID:-//Central Livestock - ECPv6.15.20//NONSGML v1.0//EN
CALSCALE:GREGORIAN
METHOD:PUBLISH
X-WR-CALNAME:Central Livestock
X-ORIGINAL-URL:https://centrallivestock.co.nz
X-WR-CALDESC:Events for Central Livestock
REFRESH-INTERVAL;VALUE=DURATION:PT1H
X-Robots-Tag:noindex
X-PUBLISHED-TTL:PT1H
BEGIN:VTIMEZONE
TZID:UTC
BEGIN:STANDARD
TZOFFSETFROM:+0000
TZOFFSETTO:+0000
TZNAME:UTC
DTSTART:20250101T000000
END:STANDARD
END:VTIMEZONE
BEGIN:VEVENT
DTSTART;TZID=UTC:20260212T120000
DTEND;TZID=UTC:20260212T170000
DTSTAMP:20260419T154928
CREATED:20260114T013614Z
LAST-MODIFIED:20260211T055417Z
UID:15567-1770897600-1770915600@centrallivestock.co.nz
SUMMARY:Waihi Pukawa Trust  - Tauwera Station Sheep Dispersal Sale - 9300 Head
DESCRIPTION:Waihi Pukawa Trust\nTauwera Station\nSheep Dispersal Sale\nThursday 12 February\n12 Noon Start\nOn Farm at:\n127 Whakapapa Intake Road\, National Park\n9300 Head\nComprising \n3300 M/A Romney Ewes\nCapital Stock – Comprising\n720 2 Tooth\n550 6 Tooth\n780 4 Year\n200 5 Year\n520 6 Year\n160 Mixed Age\n350 5 & 6 Year \n5850 Lambs – Weaned & Shorn\nComprising\n434 Top Terminal Male Lambs\n783 2nd Terminal Male Lambs\n304 Top Romney Male Lambs\n1257 2nd Romney Male Lambs\n439 Top Romney Ewe Lambs\n1152 2nd Romney Ewe Lambs\n97 Top Terminal Ewe Lambs\n64 2nd Terminal Ewe Lambs\n142 3rd Term & Rom Male Lambs\n274 3rd Term & Rom Ewe Lambs \n48 M/A Rams\n19 Romney\n16 Beltex\n13 Lamb Supreme \n\nThe flock is Wairere bred with top high index rams purchased annually\nRams selected have a high breeding index and have F/Eczema tolerance\nAverage flock scanning rates ave 170% with 150% Docked\nEarly October lambing\n2ths Shorn in Early Dec\n2ths all lambed as Hoggets\nBalance of the flock are August Shorn and will be ring crutched\n\n  \nAuctioneers Note:\nFarmed at 850 Mtrs on the high country at the foot of Mt Ruapehu.\nWith top Wairere genetics this flock will shift and do well.\nThe ewes will be drafted into age groups – Buyers will be able buy runouts to suit their requirements.\nThe lambs will be shorn and ready to move. Buyers will have the option of run outs.\nA 2% Rebate by arrangement will be available to purchasing agents.\nBidr will be operating at this sale. \nFor all enquires contact:\nPat Lacy:  027 4953564\nShane Scott: 027 4956031 \n  \nSelling companies in conjunction\nPat Lacy Livestock Limited & Central Livestock Limited \nPhotos taken on the 4th Feb\nMixed Age Ewe about to be crutched and yet to be drafted\nShorn lambs off the Mixed Age Ewes – Yet to be drafted\n\n\n\n		\n				\n						\n			\n								\n			\n		\n							\n			\n				\n						\n			\n								\n			\n		\n							\n			\n				\n						\n			\n								\n			\n		\n							\n			\n				\n						\n			\n								\n			\n		\n							\n			\n				\n						\n			\n								\n			\n		\n							\n			\n				\n						\n			\n								\n			\n		\n							\n			\n				\n						\n			\n								\n			\n		\n							\n			\n				\n						\n			\n								\n			\n		\n							\n			\n				\n						\n			\n								\n			\n		\n							\n			\n				\n						\n			\n								\n			\n		\n							\n			\n	\n	\n\n		\n		[Show slideshow]\n\n	\n	\n		\n			\n \n  \n  \n 
URL:https://centrallivestock.co.nz/event/waihi-pukawa-trust-tauwera-station-sheep-dispersal-sale-9300-head/
LOCATION:Tauwera Station\, 127 Whakapapa Intake Road\, Tongariro Forest Park 3989\, New Zealand
ATTACH;FMTTYPE=image/jpeg:https://centrallivestock.co.nz/wp-content/uploads/2026/01/Tauwera-Station-Sale-small.jpg
ORGANIZER;CN="Central Livestock Limited":MAILTO:shane@centrallivestock.co.nz
END:VEVENT
END:VCALENDAR