BEGIN:VCALENDAR
VERSION:2.0
PRODID:-//Central Livestock - ECPv6.15.20//NONSGML v1.0//EN
CALSCALE:GREGORIAN
METHOD:PUBLISH
X-WR-CALNAME:Central Livestock
X-ORIGINAL-URL:https://centrallivestock.co.nz
X-WR-CALDESC:Events for Central Livestock
REFRESH-INTERVAL;VALUE=DURATION:PT1H
X-Robots-Tag:noindex
X-PUBLISHED-TTL:PT1H
BEGIN:VTIMEZONE
TZID:Pacific/Auckland
BEGIN:STANDARD
TZOFFSETFROM:+1300
TZOFFSETTO:+1200
TZNAME:NZST
DTSTART:20160402T140000
END:STANDARD
BEGIN:DAYLIGHT
TZOFFSETFROM:+1200
TZOFFSETTO:+1300
TZNAME:NZDT
DTSTART:20160924T140000
END:DAYLIGHT
BEGIN:STANDARD
TZOFFSETFROM:+1300
TZOFFSETTO:+1200
TZNAME:NZST
DTSTART:20170401T140000
END:STANDARD
BEGIN:DAYLIGHT
TZOFFSETFROM:+1200
TZOFFSETTO:+1300
TZNAME:NZDT
DTSTART:20170923T140000
END:DAYLIGHT
BEGIN:STANDARD
TZOFFSETFROM:+1300
TZOFFSETTO:+1200
TZNAME:NZST
DTSTART:20180331T140000
END:STANDARD
BEGIN:DAYLIGHT
TZOFFSETFROM:+1200
TZOFFSETTO:+1300
TZNAME:NZDT
DTSTART:20180929T140000
END:DAYLIGHT
END:VTIMEZONE
BEGIN:VEVENT
DTSTART;TZID=Pacific/Auckland:20171019T120000
DTEND;TZID=Pacific/Auckland:20171019T120000
DTSTAMP:20260424T160701
CREATED:20170813T111558Z
LAST-MODIFIED:20170813T111558Z
UID:4395-1508414400-1508414400@centrallivestock.co.nz
SUMMARY:Taupo Cattle Sale - 400 Head
DESCRIPTION:Entries to date:\n400 CATTLE \n7 M/A Cows – Galloway Murray Grey X (In Calf)\n6 M/A Cows with Calves at Foot\n30 2Yr Steers – Angus & Angus X\n8 2Yr Steers – Friesian\n34 2Yr Heifers – Angus & Angus X\n15 1Yr Steers – Angus & Angus X\n75 1 Yr Steers – Hereford Friesian X\n16 1 Yr Steers – Dairy Beef X\n5 1Yr Heifers – Hereford\n10 1Yr Heifers – Angus & Angus X\n100 1Yr Heifers – Hereford Friesian X\n15 1Yr Heifers – Angus Friesian X\n35 Weaner Bulls – Aut Born Dairy Beef X\n35 Weaner Heifers – Aut Born Dairy Beef X\n10 Assorted Cattle \nSpecial Entries on A/c\nHarakeke Land Co – 35 1 Yr Hereford Friesian X Heifers\nKR & SM Rooney – 30 1 Yr Hereford Friesian X Heifers\nT & J Davis – 25 1 Yr Hereford Friesian X Steers (280 to 320kg) \nFor enquires and further entries please call 027 4956031 \nTaupo Saleyards is an accredited NAIT entity so we will scan and record the movement of your cattle. \nHowever\, all cattle must be NAIT tagged and all vendors must have their NAIT number. \nUntagged cattle will either be sent home or tagged with a saleyards approved NAIT tag at a maximum cost of $25 per head tagged. \nPlease note that all intending purchasers must be NAIT registered prior to the sale and must have a NAIT number when registering at the sale. \nWe are accredited providers and can assist by registering on your behalf for a small fee. \nASD forms HERE   Terms & Conditions HERE
URL:https://centrallivestock.co.nz/event/taupo-sale-4/
LOCATION:East Coast
END:VEVENT
END:VCALENDAR