BEGIN:VCALENDAR
VERSION:2.0
PRODID:-//Central Livestock - ECPv6.15.20//NONSGML v1.0//EN
CALSCALE:GREGORIAN
METHOD:PUBLISH
X-WR-CALNAME:Central Livestock
X-ORIGINAL-URL:https://centrallivestock.co.nz
X-WR-CALDESC:Events for Central Livestock
REFRESH-INTERVAL;VALUE=DURATION:PT1H
X-Robots-Tag:noindex
X-PUBLISHED-TTL:PT1H
BEGIN:VTIMEZONE
TZID:Pacific/Auckland
BEGIN:STANDARD
TZOFFSETFROM:+1300
TZOFFSETTO:+1200
TZNAME:NZST
DTSTART:20160402T140000
END:STANDARD
BEGIN:DAYLIGHT
TZOFFSETFROM:+1200
TZOFFSETTO:+1300
TZNAME:NZDT
DTSTART:20160924T140000
END:DAYLIGHT
BEGIN:STANDARD
TZOFFSETFROM:+1300
TZOFFSETTO:+1200
TZNAME:NZST
DTSTART:20170401T140000
END:STANDARD
BEGIN:DAYLIGHT
TZOFFSETFROM:+1200
TZOFFSETTO:+1300
TZNAME:NZDT
DTSTART:20170923T140000
END:DAYLIGHT
BEGIN:STANDARD
TZOFFSETFROM:+1300
TZOFFSETTO:+1200
TZNAME:NZST
DTSTART:20180331T140000
END:STANDARD
BEGIN:DAYLIGHT
TZOFFSETFROM:+1200
TZOFFSETTO:+1300
TZNAME:NZDT
DTSTART:20180929T140000
END:DAYLIGHT
END:VTIMEZONE
BEGIN:VEVENT
DTSTART;TZID=Pacific/Auckland:20171107T120000
DTEND;TZID=Pacific/Auckland:20171107T120000
DTSTAMP:20260424T145357
CREATED:20171025T140743Z
LAST-MODIFIED:20171025T140743Z
UID:4571-1510056000-1510056000@centrallivestock.co.nz
SUMMARY:AUCTION - Farm Sundries / Builders Gear / Timber
DESCRIPTION:12 Noon Start\nViewing from 10 am \nEntries to date:\nHeavy Duty Rotary Slasher with Spare Blades – Fieldmaster Broadacre 305 topping/slashing mower\nQuick Hitch Transport Tray – Twin Drum UFO Mower – Troughs\n2 x 15 Teat calfateria calf feeders – Arc Welder – Calf Rearing Hot Water Cylinder\nRide on Mower – Fencing Gear – Possum Cage – Trailer Cage – Dog Run – Dog Box\n250kg Fert & Mag Spreader – Yamaha AG200 Electric Start Farm Bike – Go Cart (4 Stroke)\n2008 Honda CRF 250 – 2009 Honda CRF 150\nJohn Deere Ride on Mower – Docking Gear – Fencing Gear – Farm Tools \nAssorted Macrocarpa & Totara timber \nHuge range of Builders & Mechanical Gear \nFurther entries will be listed as they come to hand \nFurther Entries are being accepted – BUT must fit into the Above categories or be Farm Machinery\n(NO HOUSEHOLD STUFF) \nTerms of the auction will be:\nReserved – GST Inclusive – Payment on the day by Cash\, EFT Pos – Credit Card* (*Proseesing fee applies)\nCheques will only be accepted at the discretion of the auctioneer.\nThe Auction will be run under the Terms & Conditions of the NZ Stock & Station Agents assn \nPlease phone Shane on 0274 956031 for details and entries\nView the Gallery Catalogue of the Entries to Date\nClick on or Tap image to view description \nno images were found \n 
URL:https://centrallivestock.co.nz/event/auction-farm-sundries-builders-gear-timber/
LOCATION:East Coast
END:VEVENT
BEGIN:VEVENT
DTSTART;TZID=Pacific/Auckland:20171123T120000
DTEND;TZID=Pacific/Auckland:20171123T120000
DTSTAMP:20260424T145357
CREATED:20170813T111650Z
LAST-MODIFIED:20170813T111650Z
UID:4397-1511438400-1511438400@centrallivestock.co.nz
SUMMARY:Taupo Sale - 680 Cattle
DESCRIPTION:Entries to date: Check for updates  \n680 CATTLE\n50 2yr Beef X Steers\n35 1yr Ang & Ang X Steers\n78 1yr Here Frsn X Steers\n15 1yr Ang Frsn X Steers\n10 1yr Pure Bred Angus Bulls 430kg\n16 1yr Beef X Bulls\n155 1yr Pure Bred Angus Heifers\n25 1yr Ang & Ang X Heifers\n140 1yr Here Frsn X Heifers\n56 1yr Ang Frsn X Heifers\n14 Wnr Aut Born Charolais Strs/Hfrs\n16 Wnr Aut Born Ang X & Speckle Park Str/Hfrs\n15 Wnr Here Frsn X Steers & Bulls\n25 Wnr Here Frsn & Here X Wnr Hfrs \n120 SHEEP\n120 Mixed Sex Store Lambs \nSpecial Entries:\nA/c MA & TL Newton\n110 1em Pure Bred 1 Year Angus Heifers 240kg approx\nA/c T Davis\n35 Top 1 Year Here Frsn X Steers\nA/c N Kelland\n50 1 Year Ang & Ang Here X Steers & Heifers\nA/c Kapukapu Limited\n26 1 Year Angus Frsn X Heifers (By Stokman Bulls – Qualify for Angus Pure) Suit Breeding\nA/c Harakeke Land Co\n20 2 Year Hereford Friesian X Steers\n20 1 Year Hereford Friesian X Steers \n83 1 Year Hereford Frsn X Heifers  \nFor a detailed list of entries Click Here \nFor enquiries and further entries please call 0800833834 \nTaupo Saleyards is an accredited NAIT entity so we will scan and record the movement of your cattle. \nAll cattle must be NAIT tagged and all vendors must have their NAIT number. \nUntagged cattle will either be sent home or tagged with a saleyards approved NAIT tag at a maximum cost of $25 per head tagged. \nPlease note that all intending purchasers must be NAIT registered prior to the sale and must have a NAIT number when registering at the sale. \nWe are accredited providers and can assist by registering on your behalf for a small fee. \nASD forms HERE   Terms & Conditions HERE \n \n \n \n \n \n 
URL:https://centrallivestock.co.nz/event/taupo-sale-5/
LOCATION:East Coast
END:VEVENT
END:VCALENDAR