BEGIN:VCALENDAR
VERSION:2.0
PRODID:-//Central Livestock - ECPv6.15.20//NONSGML v1.0//EN
CALSCALE:GREGORIAN
METHOD:PUBLISH
X-ORIGINAL-URL:https://centrallivestock.co.nz
X-WR-CALDESC:Events for Central Livestock
REFRESH-INTERVAL;VALUE=DURATION:PT1H
X-Robots-Tag:noindex
X-PUBLISHED-TTL:PT1H
BEGIN:VTIMEZONE
TZID:Pacific/Auckland
BEGIN:STANDARD
TZOFFSETFROM:+1300
TZOFFSETTO:+1200
TZNAME:NZST
DTSTART:20180331T140000
END:STANDARD
BEGIN:DAYLIGHT
TZOFFSETFROM:+1200
TZOFFSETTO:+1300
TZNAME:NZDT
DTSTART:20180929T140000
END:DAYLIGHT
BEGIN:STANDARD
TZOFFSETFROM:+1300
TZOFFSETTO:+1200
TZNAME:NZST
DTSTART:20190406T140000
END:STANDARD
BEGIN:DAYLIGHT
TZOFFSETFROM:+1200
TZOFFSETTO:+1300
TZNAME:NZDT
DTSTART:20190928T140000
END:DAYLIGHT
BEGIN:STANDARD
TZOFFSETFROM:+1300
TZOFFSETTO:+1200
TZNAME:NZST
DTSTART:20200404T140000
END:STANDARD
BEGIN:DAYLIGHT
TZOFFSETFROM:+1200
TZOFFSETTO:+1300
TZNAME:NZDT
DTSTART:20200926T140000
END:DAYLIGHT
END:VTIMEZONE
BEGIN:VEVENT
DTSTART;TZID=Pacific/Auckland:20190815T120000
DTEND;TZID=Pacific/Auckland:20190815T120000
DTSTAMP:20260424T141113
CREATED:20190705T060339Z
LAST-MODIFIED:20190705T060339Z
UID:6264-1565870400-1565870400@centrallivestock.co.nz
SUMMARY:TAUPO SALE - 810 Cattle to date
DESCRIPTION:Entries to date \n810 CATTLE \nComprising of:\n45   2 Year Angus Friesian Steers – 400 to 420kg\n30   2 Year Hereford Friesian Steers – 380 to 400kg\n25   2 Year Friesian Steers\n14   2 Year Angus Heifers\n30   2 Year Angus Friesian X Heifers\n52   1 Year Angus (P Bred – 1 Ear Mark) Steers 180 to 200kg\n25   1 Year Angus & Angus Here X Steers\n60   1 Year Hereford Friesian X Steers\n12   1 Year Friesian Steers\n14   1 Year Dairy Beef X Steers\n20   1 Year Friesian & Dairy Beef X Bulls\n70   1 Year Hereford Friesian X Heifers\n6     1 Year Red Devon X Heifers\n200 Aut Born Weaner Hereford Friesian X Bulls 130/140kg (Tally is an estimate only)\n6     Aut Born Friesian Hfrs\n4    Weaner Shorthorn X Bulls\n200 Aut Born Weaner Hereford Friesian X Heifers 130/140kg (Tally is an Estimate only)\n10   Assorted Cattle \nSpecial Entries\nA/c St George by the Sea\n52 1 Year Angus Steers – 1 Ear Mark at 180 to 200kg\nCall Ross Waller for details 027 4845465 \nA/c G & S Morris\n25 1 Year Angus & Angus Hereford X Steers\nCall Ross Waller for details 027 4845465 \nA/c Gardon Limited\n200 Aut Born Weaner Hereford Friesian X Bulls 130/140kg (Tally is an estimate only)\n200 Aut Born Weaner Hereford Friesian X Heifers 130/140kg (Tally is an Estimate only)\nOwner Bred & Reared – Top line – Will be drafted into lines to suit\nCall Ross Waller for details 027 4845465 \nA/c Truro Farms\n45 2 Year Angus Friesian X Steers 400/420kg\n30 2 Year Angus Friesian X Heifers 380/400kg\nAll from one herd. Farmed since weaners\nCall Shane Scott for details 027 4956031 \nA/c Harakeke Land Company\n30 2 Year Hereford Friesian X Steers 380/400kg \nOwner Bred – Of very good type\nCall Shane Scott for details 027 4956031 \nK & S Rooney\n20 1 Year Hereford Friesian X Steers 270kg\n20 1 Year Hereford Friesian X Heifers 250/260kg\n6   1 Year Friesian Bulls\nCall Shane Scott for details 027 4956031 \nA/c J & D Tadema\n25 2 Year Friesian Steers\n14 1 Year Hereford Friesian X Steers\n24 1 Year Hereford Friesian X Heifers\nOwner Bred\nCall Anton Stokman for details 027 2279410 \nEntries are currently being taken and tally changes updated daily \nTaupo Saleyards is an accredited NAIT entity so we will scan and record the movement of your cattle. \nHowever\, all cattle must be NAIT tagged and all vendors must have their NAIT number. \nUntagged cattle will either be sent home or tagged with a saleyards approved NAIT tag at a maximum cost of $25 per head tagged. \nPlease note that all intending purchasers must be NAIT registered prior to the sale and must have a NAIT number when registering at the sale. \nWe are accredited providers and can assist by registering on your behalf for a small fee. \nASD forms HERE   Terms & Conditions HERE
URL:https://centrallivestock.co.nz/event/taupo-sale-22/
LOCATION:East Coast
END:VEVENT
END:VCALENDAR