BEGIN:VCALENDAR
VERSION:2.0
PRODID:-//Central Livestock - ECPv6.15.20//NONSGML v1.0//EN
CALSCALE:GREGORIAN
METHOD:PUBLISH
X-WR-CALNAME:Central Livestock
X-ORIGINAL-URL:https://centrallivestock.co.nz
X-WR-CALDESC:Events for Central Livestock
REFRESH-INTERVAL;VALUE=DURATION:PT1H
X-Robots-Tag:noindex
X-PUBLISHED-TTL:PT1H
BEGIN:VTIMEZONE
TZID:Pacific/Auckland
BEGIN:STANDARD
TZOFFSETFROM:+1300
TZOFFSETTO:+1200
TZNAME:NZST
DTSTART:20200404T140000
END:STANDARD
BEGIN:DAYLIGHT
TZOFFSETFROM:+1200
TZOFFSETTO:+1300
TZNAME:NZDT
DTSTART:20200926T140000
END:DAYLIGHT
BEGIN:STANDARD
TZOFFSETFROM:+1300
TZOFFSETTO:+1200
TZNAME:NZST
DTSTART:20210403T140000
END:STANDARD
BEGIN:DAYLIGHT
TZOFFSETFROM:+1200
TZOFFSETTO:+1300
TZNAME:NZDT
DTSTART:20210925T140000
END:DAYLIGHT
BEGIN:STANDARD
TZOFFSETFROM:+1300
TZOFFSETTO:+1200
TZNAME:NZST
DTSTART:20220402T140000
END:STANDARD
BEGIN:DAYLIGHT
TZOFFSETFROM:+1200
TZOFFSETTO:+1300
TZNAME:NZDT
DTSTART:20220924T140000
END:DAYLIGHT
END:VTIMEZONE
BEGIN:VEVENT
DTSTART;TZID=Pacific/Auckland:20210910T130000
DTEND;TZID=Pacific/Auckland:20210910T160000
DTSTAMP:20260424T195834
CREATED:20210817T075656Z
LAST-MODIFIED:20210817T075656Z
UID:9030-1631278800-1631289600@centrallivestock.co.nz
SUMMARY:Black Bear Angus - 2nd Annual Yearling Bull Sale
DESCRIPTION:Catalogue to come \n679 Paradise Valley Road – Rotorua \nFriday 10th September at 1PM \nContact – Kevin & Janette – 027 245 4106 or 07 347 0239 or Finn – 027 493 4484
URL:https://centrallivestock.co.nz/event/black-bear-angus-2nd-annual-yearling-bull-sale/
LOCATION:East Coast
END:VEVENT
BEGIN:VEVENT
DTSTART;TZID=Pacific/Auckland:20210923T120000
DTEND;TZID=Pacific/Auckland:20210923T120000
DTSTAMP:20260424T195834
CREATED:20201124T143421Z
LAST-MODIFIED:20201124T143421Z
UID:8024-1632398400-1632398400@centrallivestock.co.nz
SUMMARY:TAUPO SALE - 210 Cattle
DESCRIPTION:Current Entries to Date\nFurther entries are still being taken \n210 Cattle\n8 2yr Here Friesian X Steers\n5 2yr Red Devon X Steers\n5 2yr Friesian Steers\n11 2yr Friesian Bulls\n26 2yr Dairy Beef X Heifers\n38 1yr Ang & Ang Here X Steers\n52 1yr Dairy Beef X Steers\n6 1yr Ang & Ang X Heifers\n46 1yr Dairy Beef X Heifers\n9 1yr Angus Rigs \nSpecial Entry\nA/c G & S Morris\n20 R1yr Angus & Ang Here X Steers \nDetailed list HERE \nCentral Livestock Ltd will be offering the MyLivestock LIVE AUCTION Service\nFull Details Here \nCovid 19\nThe sale will be run under Level 2 or Level 1 Protocols\nFor level 2 – Masks are now compulsory in doors / Contract Tracing is compulsory / 2 Meter Distancing \nFull Covid19 Info HERE  \nTaupo Saleyards is an accredited NAIT entity so we will scan and record the movement of your cattle. \nHowever\, all cattle must be NAIT tagged and all vendors must have their NAIT number. \nUntagged cattle will either be sent home or tagged with a saleyards approved NAIT tag at a maximum cost of $25 per head tagged. \nPlease note that all intending purchasers must be NAIT registered prior to the sale and must have a NAIT number when registering at the sale. \nWe are accredited providers and can assist by registering on your behalf for a small fee. \nASD forms HERE   Terms & Conditions HERE
URL:https://centrallivestock.co.nz/event/taupo-sale-34/
LOCATION:East Coast
END:VEVENT
BEGIN:VEVENT
DTSTART;TZID=Pacific/Auckland:20210929T130000
DTEND;TZID=Pacific/Auckland:20210929T170000
DTSTAMP:20260424T195834
CREATED:20210816T081004Z
LAST-MODIFIED:20210816T081004Z
UID:9005-1632920400-1632934800@centrallivestock.co.nz
SUMMARY:Stokman Angus Yearling Bull and Heifer Sale - Now 29th September
DESCRIPTION:Download the Sale catalogue HERE \n  \nContact Shane Scott 0274956031 or Anton Stokman 0272279410 for further details
URL:https://centrallivestock.co.nz/event/stokman-angus-yearling-bull-and-heifer-sale-3/
LOCATION:East Coast
END:VEVENT
END:VCALENDAR