BEGIN:VCALENDAR
VERSION:2.0
PRODID:-//Central Livestock - ECPv6.15.20//NONSGML v1.0//EN
CALSCALE:GREGORIAN
METHOD:PUBLISH
X-ORIGINAL-URL:https://centrallivestock.co.nz
X-WR-CALDESC:Events for Central Livestock
REFRESH-INTERVAL;VALUE=DURATION:PT1H
X-Robots-Tag:noindex
X-PUBLISHED-TTL:PT1H
BEGIN:VTIMEZONE
TZID:Pacific/Auckland
BEGIN:STANDARD
TZOFFSETFROM:+1300
TZOFFSETTO:+1200
TZNAME:NZST
DTSTART:20240406T140000
END:STANDARD
BEGIN:DAYLIGHT
TZOFFSETFROM:+1200
TZOFFSETTO:+1300
TZNAME:NZDT
DTSTART:20240928T140000
END:DAYLIGHT
BEGIN:STANDARD
TZOFFSETFROM:+1300
TZOFFSETTO:+1200
TZNAME:NZST
DTSTART:20250405T140000
END:STANDARD
BEGIN:DAYLIGHT
TZOFFSETFROM:+1200
TZOFFSETTO:+1300
TZNAME:NZDT
DTSTART:20250927T140000
END:DAYLIGHT
BEGIN:STANDARD
TZOFFSETFROM:+1300
TZOFFSETTO:+1200
TZNAME:NZST
DTSTART:20260404T140000
END:STANDARD
BEGIN:DAYLIGHT
TZOFFSETFROM:+1200
TZOFFSETTO:+1300
TZNAME:NZDT
DTSTART:20260926T140000
END:DAYLIGHT
END:VTIMEZONE
BEGIN:VTIMEZONE
TZID:Pacific/Auckland
BEGIN:STANDARD
TZOFFSETFROM:+1300
TZOFFSETTO:+1200
TZNAME:NZST
DTSTART:20240406T140000
END:STANDARD
BEGIN:DAYLIGHT
TZOFFSETFROM:+1200
TZOFFSETTO:+1300
TZNAME:NZDT
DTSTART:20240928T140000
END:DAYLIGHT
BEGIN:STANDARD
TZOFFSETFROM:+1300
TZOFFSETTO:+1200
TZNAME:NZST
DTSTART:20250405T140000
END:STANDARD
BEGIN:DAYLIGHT
TZOFFSETFROM:+1200
TZOFFSETTO:+1300
TZNAME:NZDT
DTSTART:20250927T140000
END:DAYLIGHT
BEGIN:STANDARD
TZOFFSETFROM:+1300
TZOFFSETTO:+1200
TZNAME:NZST
DTSTART:20260404T140000
END:STANDARD
BEGIN:DAYLIGHT
TZOFFSETFROM:+1200
TZOFFSETTO:+1300
TZNAME:NZDT
DTSTART:20260926T140000
END:DAYLIGHT
END:VTIMEZONE
BEGIN:VEVENT
DTSTART;TZID=Pacific/Auckland:20250915T120000
DTEND;TZID=Pacific/Auckland:20250915T120000
DTSTAMP:20260420T005938
CREATED:20250130T204946Z
LAST-MODIFIED:20250910T212821Z
UID:14843-1757937600-1757937600@centrallivestock.co.nz
SUMMARY:TAUPO Cattle Sale
DESCRIPTION:Taupo Cattle Sale\nMonday 15th September\nEntries to date \n390 Head\n20 Empty Cows\n3 Aged Sire Bulls\n32 2yr Here Friesian X Steers\n50 2yr Friesian Steers 480 kg approx\n3 2yr Angus Steers\n3 2yr Hereford Bulls\n20 R3 & R2yr Angus Heifers\n30 1yr Angus & Angus Here X Steers\n12 1yr Jersey Bulls\n21 1yr Here Frsn X Heifers\n5 R1yr Angus Steers\n20 R1yr Charo Frsn X Heifers\n40 R1yr Here Frsn X Heifers\n5 R1yr Angus Heifers\n20 R1yr Aut Born Dairy X Bulls\n15 R1yr Aut Born Dairy X Heifers\n20 AB Wnr Charo Frsn X Bulls\n40 AB Wnr Friesian Bulls\n30 AB Wnr Charo Frsn X Heifers \nSpecial Entries:\nG & S Morris\n30 1yr Angus & Angus Here X Steers \nTe Arai Point Properties\n50 2yr Friesian Steers 480kg \nSelling companies:\nCentral Livestock 027 4956031\nPGG Wrightson 027 4720901\nCarrfields Livestock 021 1748403\n \n\nThe Taupo Cattle Sales are a Hybrid Livestream sale with bidr® – head to bidr.co.nz to watch and bid every sale.\nFor any bidr® queries or assistance\,\ncall 0800 TO BIDR (0800 86 2437) or email enquiries@bidr.co.nz \nTAUPO Saleyards Food Canteen\nPlease note that Food & Drink Purchases are CASH or by Banking app payment only  \nNAIT Requirements\nTaupo Saleyards is an accredited NAIT entity so we will scan and record the movement of your cattle.\nHowever\, all cattle must be NAIT tagged and all vendors must have their NAIT number.\nUntagged cattle will either be sent home or tagged with a saleyards approved NAIT tag at a maximum cost of $25 per head tagged.\nPlease note that all intending purchasers must be NAIT registered prior to the sale and must have a NAIT number when registering at the sale.\nWe are accredited NAIT providers and can assist by registering on your behalf for a small fee. \nNEW ASD Form – MPI have released an updated ASD form – It is a requirement to use the updated form – See the download link below\nASD forms HERE   Terms & Conditions HERE\n 
URL:https://centrallivestock.co.nz/event/taupo-cattle-sale-21/
LOCATION:Taupo Saleyards\, 26/74 Oruanui Road\, Taupo\, 3384
ATTACH;FMTTYPE=image/jpeg:https://centrallivestock.co.nz/wp-content/uploads/2021/08/IMG_7611.jpeg
ORGANIZER;CN="Central Livestock Limited":MAILTO:shane@centrallivestock.co.nz
END:VEVENT
BEGIN:VEVENT
DTSTART;TZID=Pacific/Auckland:20250917T130000
DTEND;TZID=Pacific/Auckland:20250917T170000
DTSTAMP:20260420T005938
CREATED:20250805T080011Z
LAST-MODIFIED:20250828T022643Z
UID:15172-1758114000-1758128400@centrallivestock.co.nz
SUMMARY:Stokman Angus Yearling Bull and Heifer Sale
DESCRIPTION:This year’s sale comprises:\n130 1-Year Stud Angus Bulls\n40 1-Year Commercial Angus Heifers \nOpen/Viewing day – Tuesday 2nd September 11am to 3pm\n \nView Auction Catalogue HERE \nVisit Stokman Angus on the WEB HERE \nContact Shane Scott 0274956031 or Anton Stokman 0272279410 for further details
URL:https://centrallivestock.co.nz/event/stokman-angus-yearling-bull-and-heifer-sale-5/
LOCATION:Stokman Angus\, 1708 Te Kopia Road\, Rotorua\, New Zealand
ATTACH;FMTTYPE=image/jpeg:https://centrallivestock.co.nz/wp-content/uploads/2024/08/StokmanBull180924-e1754380688418.jpg
END:VEVENT
BEGIN:VEVENT
DTSTART;TZID=Pacific/Auckland:20250919T130000
DTEND;TZID=Pacific/Auckland:20250919T170000
DTSTAMP:20260420T005938
CREATED:20250819T182927Z
LAST-MODIFIED:20250819T183918Z
UID:15209-1758286800-1758301200@centrallivestock.co.nz
SUMMARY:Black Bear Angus - Yearling Bull Sale
DESCRIPTION:Friday 19th September 2025\n1pm\n40 1yr Angus Bulls – By Auction \n28 1yr Angus Bulls – By Private Treaty from the 20th Sept\n\nSale Details Here
URL:https://centrallivestock.co.nz/event/black-bear-angus-yearling-bull-sale-3/
LOCATION:Black Bear Angus\, 679 Paradise Valley Road\, Rotorua\, New Zealand
ATTACH;FMTTYPE=image/png:https://centrallivestock.co.nz/wp-content/uploads/2025/08/Screenshot-2025-08-20-at-6.31.01-AM.png
END:VEVENT
BEGIN:VEVENT
DTSTART;TZID=Pacific/Auckland:20250929T120000
DTEND;TZID=Pacific/Auckland:20250929T120000
DTSTAMP:20260420T005938
CREATED:20250916T081653Z
LAST-MODIFIED:20250926T205348Z
UID:15350-1759147200-1759147200@centrallivestock.co.nz
SUMMARY:TAUPO Cattle Sale
DESCRIPTION:TAUPO Cattle Sale \nMonday 29th September\n12 Noon Start\nEntries to date \n250 Head\n70 Empty Frsn & Frsn X Cows\n12 2yr Fat & Forward Here Frsn X Heifers\n22 2yr Beef X Steers\n4 2yr Beef X Heifers\n30 2yr Empty Dairy Heifers\n6 R2yr Devon Frsn X Bulls\n2 R2yr Devon Frsn X Heifers\n30 1yr Here & S/Park Frsn X Steers\n26 1yr Here & S/Park Frsn X Heifers\n15 1yr Jersey Bulls\n15 AB Wnr Charo Frsn X Bulls\n10 Assorted Cattle \nFurther entries are expected \nSelling companies:\nCentral Livestock 027 4956031\nPGG Wrightson 027 4720901\nCarrfields Livestock 021 1748403 \n\n\nThe Taupo Cattle Sales are a Hybrid Livestream sale with bidr® – head to bidr.co.nz to watch and bid every sale.\nFor any bidr® queries or assistance\,\ncall 0800 TO BIDR (0800 86 2437) or email enquiries@bidr.co.nz \nTAUPO Saleyards Food Canteen\nPlease note that Food & Drink Purchases are CASH or by Banking app payment only  \nNAIT Requirements\nTaupo Saleyards is an accredited NAIT entity so we will scan and record the movement of your cattle.\nHowever\, all cattle must be NAIT tagged and all vendors must have their NAIT number.\nUntagged cattle will either be sent home or tagged with a saleyards approved NAIT tag at a maximum cost of $25 per head tagged.\nPlease note that all intending purchasers must be NAIT registered prior to the sale and must have a NAIT number when registering at the sale.\nWe are accredited NAIT providers and can assist by registering on your behalf for a small fee. \nNEW ASD Form – MPI have released an updated ASD form – It is a requirement to use the updated form – See the download link below\nASD forms HERE   Terms & Conditions HERE\n  \n  \n 
URL:https://centrallivestock.co.nz/event/taupo-cattle-sale-38/
LOCATION:Taupo Saleyards\, 26/74 Oruanui Road\, Taupo\, 3384
ATTACH;FMTTYPE=image/jpeg:https://centrallivestock.co.nz/wp-content/uploads/2021/08/IMG_7611.jpeg
ORGANIZER;CN="Central Livestock Limited":MAILTO:shane@centrallivestock.co.nz
END:VEVENT
END:VCALENDAR