BEGIN:VCALENDAR
VERSION:2.0
PRODID:-//Central Livestock - ECPv6.15.20//NONSGML v1.0//EN
CALSCALE:GREGORIAN
METHOD:PUBLISH
X-WR-CALNAME:Central Livestock
X-ORIGINAL-URL:https://centrallivestock.co.nz
X-WR-CALDESC:Events for Central Livestock
REFRESH-INTERVAL;VALUE=DURATION:PT1H
X-Robots-Tag:noindex
X-PUBLISHED-TTL:PT1H
BEGIN:VTIMEZONE
TZID:Pacific/Auckland
BEGIN:STANDARD
TZOFFSETFROM:+1300
TZOFFSETTO:+1200
TZNAME:NZST
DTSTART:20250405T140000
END:STANDARD
BEGIN:DAYLIGHT
TZOFFSETFROM:+1200
TZOFFSETTO:+1300
TZNAME:NZDT
DTSTART:20250927T140000
END:DAYLIGHT
BEGIN:STANDARD
TZOFFSETFROM:+1300
TZOFFSETTO:+1200
TZNAME:NZST
DTSTART:20260404T140000
END:STANDARD
BEGIN:DAYLIGHT
TZOFFSETFROM:+1200
TZOFFSETTO:+1300
TZNAME:NZDT
DTSTART:20260926T140000
END:DAYLIGHT
BEGIN:STANDARD
TZOFFSETFROM:+1300
TZOFFSETTO:+1200
TZNAME:NZST
DTSTART:20270403T140000
END:STANDARD
BEGIN:DAYLIGHT
TZOFFSETFROM:+1200
TZOFFSETTO:+1300
TZNAME:NZDT
DTSTART:20270925T140000
END:DAYLIGHT
END:VTIMEZONE
BEGIN:VEVENT
DTSTART;TZID=Pacific/Auckland:20260309T120000
DTEND;TZID=Pacific/Auckland:20260309T120000
DTSTAMP:20260419T125153
CREATED:20250828T023113Z
LAST-MODIFIED:20260311T195056Z
UID:15314-1773057600-1773057600@centrallivestock.co.nz
SUMMARY:TAUPO Weaner Cattle Sale - 1350 Head
DESCRIPTION:Taupo Dairy Beef\nWeaner Sale\nMonday 9th March\n12 Noon \n1350 Head\n25 Charolais Frsn X Strs (Off cows 280kg)\n30 Ang Simm & Limo X Strs\n34 Exotic X Strs\n8 B Blue Frsn X Strs\n10 Murray Grey X Strs\n20 Angus Frsn X (Aut Born) Strs\n20 Here & Simm Frsn X Strs\n25 Speckle Park Frsn X Strs\n210 Here Frsn X Bulls & Strs\n15 Angus Frsn X Strs\n20 Simm X Bulls (280kg)\n590 Friesian Bulls\n6 Simm X Hfrs\n20 Charolais Frsn X Heifers\n20 Speckle Park Frsn X Heifers\n30 Dairy Beef X Hfrs (Aut Born)\n260 Here Frsn X Hfrs\n15 Angus Frsn X Hfrs \nSpecial Entries:\nA/c RA & RG Skiffington\n180 Top Wnr Friesian Bulls\nA/c D & J Cotton\n30 Simm\, Limo & Stabiliser Angus X Strs \nSelling Companies:\nCentral Livestock 027 4956031\nPGG Wrightson 027 4720901\nCarrfields 021 174 8403 \n\n\nThe Taupo Cattle Sales are a Hybrid Livestream sale with bidr® – head to bidr.co.nz to watch and bid every sale.\nFor any bidr® queries or assistance\,\ncall 0800 TO BIDR (0800 86 2437) or email enquiries@bidr.co.nz \nTAUPO Saleyards Food Canteen\nPlease note that Food & Drink Purchases are CASH or by Banking app payment only  \nNAIT Requirements\nTaupo Saleyards is an accredited NAIT entity so we will scan and record the movement of your cattle.\nHowever\, all cattle must be NAIT tagged and all vendors must have their NAIT number.\nUntagged cattle will either be sent home or tagged with a saleyards approved NAIT tag at a maximum cost of $25 per head tagged.\nPlease note that all intending purchasers must be NAIT registered prior to the sale and must have a NAIT number when registering at the sale.\nWe are accredited NAIT providers and can assist by registering on your behalf for a small fee. \nNEW ASD Form – MPI have released an updated ASD form – It is a requirement to use the updated form – See the download link below\nASD forms HERE   Terms & Conditions HERE\n 
URL:https://centrallivestock.co.nz/event/taupo-weaner-cattle-sale-2/
LOCATION:Taupo Saleyards\, 26/74 Oruanui Road\, Taupo\, 3384
ATTACH;FMTTYPE=image/jpeg:https://centrallivestock.co.nz/wp-content/uploads/2021/08/IMG_7611.jpeg
ORGANIZER;CN="Central Livestock Limited":MAILTO:shane@centrallivestock.co.nz
END:VEVENT
BEGIN:VEVENT
DTSTART;TZID=Pacific/Auckland:20260316T120000
DTEND;TZID=Pacific/Auckland:20260316T120000
DTSTAMP:20260419T125153
CREATED:20250828T020817Z
LAST-MODIFIED:20260315T042242Z
UID:15280-1773662400-1773662400@centrallivestock.co.nz
SUMMARY:TAUPO Cow & Cattle Sale - 320 Head
DESCRIPTION:Taupo Cattle Sale\n\nMonday 16th March\n12 Noon \n320 Head\n30 Empty Dairy Cows\n4 Sire Bulls\n12 Fat & Forward Strs & Hfrs\n20 R2yr Dairy Beef X Strs\n10 R2yr Dairy Beef X Bulls\n30 R2yr Jersey Bulls\n30 R2yr Dairy Beef X Hfrs\n80 R2yr Empty Dairy Hfrs\n25 Wnr Charo Frsn X Strs\n20 Wnr Here Frsn X Strs\n40 Wnr Dairy Beef X Hfrs \nSelling Companies:\nCentral Livestock 027 4956031\nPGG Wrightson 027 4720901\nCarrfields 021 174 8403 \n\n\nThe Taupo Cattle Sales are a Hybrid Livestream sale with bidr® – head to bidr.co.nz to watch and bid every sale.\nFor any bidr® queries or assistance\,\ncall 0800 TO BIDR (0800 86 2437) or email enquiries@bidr.co.nz \nTAUPO Saleyards Food Canteen\nPlease note that Food & Drink Purchases are CASH or by Banking app payment only  \nNAIT Requirements\nTaupo Saleyards is an accredited NAIT entity so we will scan and record the movement of your cattle.\nHowever\, all cattle must be NAIT tagged and all vendors must have their NAIT number.\nUntagged cattle will either be sent home or tagged with a saleyards approved NAIT tag at a maximum cost of $25 per head tagged.\nPlease note that all intending purchasers must be NAIT registered prior to the sale and must have a NAIT number when registering at the sale.\nWe are accredited NAIT providers and can assist by registering on your behalf for a small fee. \nNEW ASD Form – MPI have released an updated ASD form – It is a requirement to use the updated form – See the download link below\nASD forms HERE   Terms & Conditions HERE\n 
URL:https://centrallivestock.co.nz/event/taupo-cattle-sale-29/
LOCATION:Taupo Saleyards\, 26/74 Oruanui Road\, Taupo\, 3384
ATTACH;FMTTYPE=image/jpeg:https://centrallivestock.co.nz/wp-content/uploads/2021/08/IMG_7611.jpeg
ORGANIZER;CN="Central Livestock Limited":MAILTO:shane@centrallivestock.co.nz
END:VEVENT
BEGIN:VEVENT
DTSTART;TZID=Pacific/Auckland:20260330T120000
DTEND;TZID=Pacific/Auckland:20260330T120000
DTSTAMP:20260419T125153
CREATED:20250828T021039Z
LAST-MODIFIED:20260327T014118Z
UID:15279-1774872000-1774872000@centrallivestock.co.nz
SUMMARY:TAUPO Cattle Sale - 245 Head
DESCRIPTION:Taupo Cattle Sale\nMonday 30th March\n12 Noon\nEntries to date \n245 Head\n20 Empty Dairy Cows\n14 2 ½ yr Steers\n20 1 ½ yr Steers\n30 1 1/2yr Dairy Beef X Heifers\n90 1/1/2 yr Empty Dairy Heifers\n20 Here Frsn x Wnr Steers\n20 Dairy Beef X Wnr Steers & Bulls\n20 Dairy Beef X Wnr Heifers\n10 Assorted Cattle \nSelling Companies:\nCentral Livestock 027 4956031\nPGG Wrightson 027 4720901\nCarrfields 021 174 8403 \n \nThe Taupo Cattle Sales are a Hybrid Livestream sale with bidr® – head to bidr.co.nz to watch and bid every sale.\nFor any bidr® queries or assistance\,\ncall 0800 TO BIDR (0800 86 2437) or email enquiries@bidr.co.nz \nTAUPO Saleyards Food Canteen\nPlease note that Food & Drink Purchases are CASH or by Banking app payment only  \nNAIT Requirements\nTaupo Saleyards is an accredited NAIT entity so we will scan and record the movement of your cattle.\nHowever\, all cattle must be NAIT tagged and all vendors must have their NAIT number.\nUntagged cattle will either be sent home or tagged with a saleyards approved NAIT tag at a maximum cost of $25 per head tagged.\nPlease note that all intending purchasers must be NAIT registered prior to the sale and must have a NAIT number when registering at the sale.\nWe are accredited NAIT providers and can assist by registering on your behalf for a small fee. \nNEW ASD Form – MPI have released an updated ASD form – It is a requirement to use the updated form – See the download link below\nASD forms HERE   Terms & Conditions HERE\n 
URL:https://centrallivestock.co.nz/event/taupo-cow-cattle-sale-10/
LOCATION:Taupo Saleyards\, 26/74 Oruanui Road\, Taupo\, 3384
ATTACH;FMTTYPE=image/jpeg:https://centrallivestock.co.nz/wp-content/uploads/2021/08/IMG_7611.jpeg
ORGANIZER;CN="Central Livestock Limited":MAILTO:shane@centrallivestock.co.nz
END:VEVENT
END:VCALENDAR